{"text_format":"3","workbook":"xlsx","n_sheets":1,"sheets":["公示"],"not_rendered":{"external_links":2,"defined_names":4},"read":"whole","date_system":"1900"}

{"sheet":"公示","index":0,"n_rows":557,"n_cols":6,"rows_kept":557,"merged":[[0,0,0,5]]}
["仁怀市2020年公开招聘事业单位人员面试及总成绩表"]
["准考证号","报考职位","招聘单位","笔试成绩","面试分数","总成绩"]
["10121485330","061602","0616仁怀市乡镇小学",{"$f":"VLOOKUP(A3,'[2]2020年0905'!$C$1:$H$65536,6,FALSE)","v":92},86.1,{"$f":"ROUND((D3/1.5*0.6+E3*0.4),2)","v":71.24}]
["10121503319","061602","0616仁怀市乡镇小学",{"$f":"VLOOKUP(A4,'[2]2020年0905'!$C$1:$H$65536,6,FALSE)","v":86.5},79.74,66.5]
["10121487029","061602","0616仁怀市乡镇小学",{"$f":"VLOOKUP(A5,'[2]2020年0905'!$C$1:$H$65536,6,FALSE)","v":84.5},85.66,68.06]
["10121486324","061602","0616仁怀市乡镇小学",{"$f":"VLOOKUP(A6,'[2]2020年0905'!$C$1:$H$65536,6,FALSE)","v":83.5},87.3,68.32]
["10121491226","061602","0616仁怀市乡镇小学",{"$f":"VLOOKUP(A7,'[2]2020年0905'!$C$1:$H$65536,6,FALSE)","v":83},85.98,67.59]
["10121500108","061602","0616仁怀市乡镇小学",{"$f":"VLOOKUP(A8,'[2]2020年0905'!$C$1:$H$65536,6,FALSE)","v":80.5},84.46,65.98]
["10121501911","061602","0616仁怀市乡镇小学",{"$f":"VLOOKUP(A9,'[2]2020年0905'!$C$1:$H$65536,6,FALSE)","v":80.5},85.12,66.25]
["10121486111","061602","0616仁怀市乡镇小学",{"$f":"VLOOKUP(A10,'[2]2020年0905'!$C$1:$H$65536,6,FALSE)","v":79},84.86,65.54]
["10121491725","061602","0616仁怀市乡镇小学",{"$f":"VLOOKUP(A11,'[2]2020年0905'!$C$1:$H$65536,6,FALSE)","v":74},81.72,62.29]
["10121482708","061602","0616仁怀市乡镇小学",{"$f":"VLOOKUP(A12,'[2]2020年0905'!$C$1:$H$65536,6,FALSE)","v":67},79.84,58.74]
["10121504203","061602","0616仁怀市乡镇小学",{"$f":"VLOOKUP(A13,'[2]2020年0905'!$C$1:$H$65536,6,FALSE)","v":63.5},0,25.4]
["10121484822","061801","0618仁怀市九仓小学",{"$f":"VLOOKUP(A14,'[2]2020年0905'!$C$1:$H$65536,6,FALSE)","v":79},84.52,65.41]
["10121489021","061603","0616仁怀市乡镇小学",{"$f":"VLOOKUP(A15,'[2]2020年0905'!$C$1:$H$65536,6,FALSE)","v":94},81.5,70.2]
["10121501004","061603","0616仁怀市乡镇小学",{"$f":"VLOOKUP(A16,'[2]2020年0905'!$C$1:$H$65536,6,FALSE)","v":94},82.12,70.45]
["10121512224","061603","0616仁怀市乡镇小学",{"$f":"VLOOKUP(A17,'[2]2020年0905'!$C$1:$H$65536,6,FALSE)","v":91},80.12,68.45]
["10121486228","061603","0616仁怀市乡镇小学",{"$f":"VLOOKUP(A18,'[2]2020年0905'!$C$1:$H$65536,6,FALSE)","v":89.5},86.16,70.26]
["10121493423","061603","0616仁怀市乡镇小学",{"$f":"VLOOKUP(A19,'[2]2020年0905'!$C$1:$H$65536,6,FALSE)","v":88},83.2,68.48]
["10121512105","061603","0616仁怀市乡镇小学",{"$f":"VLOOKUP(A20,'[2]2020年0905'!$C$1:$H$65536,6,FALSE)","v":88},85.08,69.23]
["10121480724","061603","0616仁怀市乡镇小学",{"$f":"VLOOKUP(A21,'[2]2020年0905'!$C$1:$H$65536,6,FALSE)","v":87.5},82.48,67.99]
["10121484004","061603","0616仁怀市乡镇小学",{"$f":"VLOOKUP(A22,'[2]2020年0905'!$C$1:$H$65536,6,FALSE)","v":87.5},83.88,68.55]
["10121492025","061603","0616仁怀市乡镇小学",{"$f":"VLOOKUP(A23,'[2]2020年0905'!$C$1:$H$65536,6,FALSE)","v":87},82.54,67.82]
["10121512610","061603","0616仁怀市乡镇小学",{"$f":"VLOOKUP(A24,'[2]2020年0905'!$C$1:$H$65536,6,FALSE)","v":85.5},81.3,66.72]
["10121482324","061603","0616仁怀市乡镇小学",{"$f":"VLOOKUP(A25,'[2]2020年0905'!$C$1:$H$65536,6,FALSE)","v":85},80.3,66.12]
["10121485215","061603","0616仁怀市乡镇小学",{"$f":"VLOOKUP(A26,'[2]2020年0905'!$C$1:$H$65536,6,FALSE)","v":85},86.38,68.55]
["10121510827","061603","0616仁怀市乡镇小学",{"$f":"VLOOKUP(A27,'[2]2020年0905'!$C$1:$H$65536,6,FALSE)","v":84.5},82.16,66.66]
["10121481202","061603","0616仁怀市乡镇小学",{"$f":"VLOOKUP(A28,'[2]2020年0905'!$C$1:$H$65536,6,FALSE)","v":84},81.46,66.18]
["10121510724","061603","0616仁怀市乡镇小学",{"$f":"VLOOKUP(A29,'[2]2020年0905'!$C$1:$H$65536,6,FALSE)","v":84},82.94,66.78]
["10121483310","061603","0616仁怀市乡镇小学",{"$f":"VLOOKUP(A30,'[2]2020年0905'!$C$1:$H$65536,6,FALSE)","v":81.5},77.08,63.43]
["10121502127","061603","0616仁怀市乡镇小学",{"$f":"VLOOKUP(A31,'[2]2020年0905'!$C$1:$H$65536,6,FALSE)","v":81.5},81.38,65.15]
["10121512021","061603","0616仁怀市乡镇小学",{"$f":"VLOOKUP(A32,'[2]2020年0905'!$C$1:$H$65536,6,FALSE)","v":81.5},74.68,62.47]
["10121485830","061603","0616仁怀市乡镇小学",{"$f":"VLOOKUP(A33,'[2]2020年0905'!$C$1:$H$65536,6,FALSE)","v":80.5},82.94,65.38]
["10121485025","061603","0616仁怀市乡镇小学",{"$f":"VLOOKUP(A34,'[2]2020年0905'!$C$1:$H$65536,6,FALSE)","v":80},84.82,65.93]
["10121485724","061603","0616仁怀市乡镇小学",{"$f":"VLOOKUP(A35,'[2]2020年0905'!$C$1:$H$65536,6,FALSE)","v":77},81.08,63.23]
["10121488911","061603","0616仁怀市乡镇小学",{"$f":"VLOOKUP(A36,'[2]2020年0905'!$C$1:$H$65536,6,FALSE)","v":77},0,30.8]
["10121488719","061603","0616仁怀市乡镇小学",{"$f":"VLOOKUP(A37,'[2]2020年0905'!$C$1:$H$65536,6,FALSE)","v":76},71.64,59.06]
["10121503115","061603","0616仁怀市乡镇小学",{"$f":"VLOOKUP(A38,'[2]2020年0905'!$C$1:$H$65536,6,FALSE)","v":76},74.54,60.22]
["10121505026","061603","0616仁怀市乡镇小学",{"$f":"VLOOKUP(A39,'[2]2020年0905'!$C$1:$H$65536,6,FALSE)","v":73.5},81.08,61.83]
["10121491908","061603","0616仁怀市乡镇小学",{"$f":"VLOOKUP(A40,'[2]2020年0905'!$C$1:$H$65536,6,FALSE)","v":72},83.38,62.15]
["10121486829","061603","0616仁怀市乡镇小学",{"$f":"VLOOKUP(A41,'[2]2020年0905'!$C$1:$H$65536,6,FALSE)","v":71},81.42,60.97]
["10121484226","061603","0616仁怀市乡镇小学",{"$f":"VLOOKUP(A42,'[2]2020年0905'!$C$1:$H$65536,6,FALSE)","v":70.5},80.04,60.22]
["10121487814","061603","0616仁怀市乡镇小学",{"$f":"VLOOKUP(A43,'[2]2020年0905'!$C$1:$H$65536,6,FALSE)","v":68.5},0,27.4]
["10121488914","061603","0616仁怀市乡镇小学",{"$f":"VLOOKUP(A44,'[2]2020年0905'!$C$1:$H$65536,6,FALSE)","v":68.5},79.58,59.23]
["10121510824","061603","0616仁怀市乡镇小学",{"$f":"VLOOKUP(A45,'[2]2020年0905'!$C$1:$H$65536,6,FALSE)","v":68.5},0,27.4]
["10121511618","061603","0616仁怀市乡镇小学",{"$f":"VLOOKUP(A46,'[2]2020年0905'!$C$1:$H$65536,6,FALSE)","v":68.5},0,27.4]
["10121492217","061604","0616仁怀市乡镇小学",{"$f":"VLOOKUP(A47,'[2]2020年0905'!$C$1:$H$65536,6,FALSE)","v":106.5},78.34,73.94]
["10121489027","061604","0616仁怀市乡镇小学",{"$f":"VLOOKUP(A48,'[2]2020年0905'!$C$1:$H$65536,6,FALSE)","v":106},80.98,74.79]
["10121482421","061604","0616仁怀市乡镇小学",{"$f":"VLOOKUP(A49,'[2]2020年0905'!$C$1:$H$65536,6,FALSE)","v":102.5},78.76,72.5]
["10121502910","061604","0616仁怀市乡镇小学",{"$f":"VLOOKUP(A50,'[2]2020年0905'!$C$1:$H$65536,6,FALSE)","v":101},76.22,70.89]
["10121504424","061604","0616仁怀市乡镇小学",{"$f":"VLOOKUP(A51,'[2]2020年0905'!$C$1:$H$65536,6,FALSE)","v":100},76.96,70.78]
["10121502216","061604","0616仁怀市乡镇小学",{"$f":"VLOOKUP(A52,'[2]2020年0905'!$C$1:$H$65536,6,FALSE)","v":98.5},79,71]
["10121511924","061604","0616仁怀市乡镇小学",{"$f":"VLOOKUP(A53,'[2]2020年0905'!$C$1:$H$65536,6,FALSE)","v":98},78.24,70.5]
["10121481810","061604","0616仁怀市乡镇小学",{"$f":"VLOOKUP(A54,'[2]2020年0905'!$C$1:$H$65536,6,FALSE)","v":97.5},82.42,71.97]
["10121487730","061604","0616仁怀市乡镇小学",{"$f":"VLOOKUP(A55,'[2]2020年0905'!$C$1:$H$65536,6,FALSE)","v":97.5},80.52,71.21]
["10121510315","061604","0616仁怀市乡镇小学",{"$f":"VLOOKUP(A56,'[2]2020年0905'!$C$1:$H$65536,6,FALSE)","v":97},81.18,71.27]
["10121505030","061604","0616仁怀市乡镇小学",{"$f":"VLOOKUP(A57,'[2]2020年0905'!$C$1:$H$65536,6,FALSE)","v":96.5},82.12,71.45]
["10121485912","061604","0616仁怀市乡镇小学",{"$f":"VLOOKUP(A58,'[2]2020年0905'!$C$1:$H$65536,6,FALSE)","v":95.5},84.02,71.81]
["10121490416","061604","0616仁怀市乡镇小学",{"$f":"VLOOKUP(A59,'[2]2020年0905'!$C$1:$H$65536,6,FALSE)","v":95},0,38]
["10121491015","061604","0616仁怀市乡镇小学",{"$f":"VLOOKUP(A60,'[2]2020年0905'!$C$1:$H$65536,6,FALSE)","v":95},80.14,70.06]
["10121484323","061604","0616仁怀市乡镇小学",{"$f":"VLOOKUP(A61,'[2]2020年0905'!$C$1:$H$65536,6,FALSE)","v":93.5},81.48,69.99]
["10121486522","061604","0616仁怀市乡镇小学",{"$f":"VLOOKUP(A62,'[2]2020年0905'!$C$1:$H$65536,6,FALSE)","v":93.5},79.04,69.02]
["10121504119","061604","0616仁怀市乡镇小学",{"$f":"VLOOKUP(A63,'[2]2020年0905'!$C$1:$H$65536,6,FALSE)","v":92},0,36.8]
["10121480418","061604","0616仁怀市乡镇小学",{"$f":"VLOOKUP(A64,'[2]2020年0905'!$C$1:$H$65536,6,FALSE)","v":90},76.16,66.46]
["10121500403","061604","0616仁怀市乡镇小学",{"$f":"VLOOKUP(A65,'[2]2020年0905'!$C$1:$H$65536,6,FALSE)","v":89},77.02,66.41]
["10121504126","061604","0616仁怀市乡镇小学",{"$f":"VLOOKUP(A66,'[2]2020年0905'!$C$1:$H$65536,6,FALSE)","v":89},80.08,67.63]
["10121491116","061604","0616仁怀市乡镇小学",{"$f":"VLOOKUP(A67,'[2]2020年0905'!$C$1:$H$65536,6,FALSE)","v":88.5},0,{"$f":"ROUND((D67/1.5*0.6+E67*0.4),2)","v":35.4}]
["10121493509","061604","0616仁怀市乡镇小学",{"$f":"VLOOKUP(A68,'[2]2020年0905'!$C$1:$H$65536,6,FALSE)","v":88.5},81.2,67.88]
["10121488611","061604","0616仁怀市乡镇小学",{"$f":"VLOOKUP(A69,'[2]2020年0905'!$C$1:$H$65536,6,FALSE)","v":87},76.4,65.36]
["10121500104","061604","0616仁怀市乡镇小学",{"$f":"VLOOKUP(A70,'[2]2020年0905'!$C$1:$H$65536,6,FALSE)","v":87},76.56,65.42]
["10121486920","061604","0616仁怀市乡镇小学",{"$f":"VLOOKUP(A71,'[2]2020年0905'!$C$1:$H$65536,6,FALSE)","v":86.5},77.82,65.73]
["10121481020","061604","0616仁怀市乡镇小学",{"$f":"VLOOKUP(A72,'[2]2020年0905'!$C$1:$H$65536,6,FALSE)","v":86},0,34.4]
["10121502628","061604","0616仁怀市乡镇小学",{"$f":"VLOOKUP(A73,'[2]2020年0905'!$C$1:$H$65536,6,FALSE)","v":86},77.1,65.24]
["10121503510","061604","0616仁怀市乡镇小学",{"$f":"VLOOKUP(A74,'[2]2020年0905'!$C$1:$H$65536,6,FALSE)","v":85.5},0,34.2]
["10121502712","061604","0616仁怀市乡镇小学",{"$f":"VLOOKUP(A75,'[2]2020年0905'!$C$1:$H$65536,6,FALSE)","v":85},0,34]
["10121487215","061604","0616仁怀市乡镇小学",{"$f":"VLOOKUP(A76,'[2]2020年0905'!$C$1:$H$65536,6,FALSE)","v":84.5},74.5,63.6]
["10121480712","061605","0616仁怀市乡镇小学",{"$f":"VLOOKUP(A77,'[2]2020年0905'!$C$1:$H$65536,6,FALSE)","v":103.5},84.72,75.29]
["10121501624","061605","0616仁怀市乡镇小学",{"$f":"VLOOKUP(A78,'[2]2020年0905'!$C$1:$H$65536,6,FALSE)","v":102.5},85.08,75.03]
["10121482628","061605","0616仁怀市乡镇小学",{"$f":"VLOOKUP(A79,'[2]2020年0905'!$C$1:$H$65536,6,FALSE)","v":101.5},85.58,74.83]
["10121486203","061605","0616仁怀市乡镇小学",{"$f":"VLOOKUP(A80,'[2]2020年0905'!$C$1:$H$65536,6,FALSE)","v":97},84.8,72.72]
["10121484228","061605","0616仁怀市乡镇小学",{"$f":"VLOOKUP(A81,'[2]2020年0905'!$C$1:$H$65536,6,FALSE)","v":96},82.4,71.36]
["10121492826","061605","0616仁怀市乡镇小学",{"$f":"VLOOKUP(A82,'[2]2020年0905'!$C$1:$H$65536,6,FALSE)","v":95.5},88.22,73.49]
["10121510116","061605","0616仁怀市乡镇小学",{"$f":"VLOOKUP(A83,'[2]2020年0905'!$C$1:$H$65536,6,FALSE)","v":95.5},89.56,74.02]
["10121489017","061605","0616仁怀市乡镇小学",{"$f":"VLOOKUP(A84,'[2]2020年0905'!$C$1:$H$65536,6,FALSE)","v":94},86.76,72.3]
["10121483016","061605","0616仁怀市乡镇小学",{"$f":"VLOOKUP(A85,'[2]2020年0905'!$C$1:$H$65536,6,FALSE)","v":93.5},88.02,72.61]
["10121483311","061605","0616仁怀市乡镇小学",{"$f":"VLOOKUP(A86,'[2]2020年0905'!$C$1:$H$65536,6,FALSE)","v":93},87.11,72.04]
["10121511730","061605","0616仁怀市乡镇小学",{"$f":"VLOOKUP(A87,'[2]2020年0905'!$C$1:$H$65536,6,FALSE)","v":92.5},87.02,71.81]
["10121480630","061605","0616仁怀市乡镇小学",{"$f":"VLOOKUP(A88,'[2]2020年0905'!$C$1:$H$65536,6,FALSE)","v":92},87.1,71.64]
["10121483323","061605","0616仁怀市乡镇小学",{"$f":"VLOOKUP(A89,'[2]2020年0905'!$C$1:$H$65536,6,FALSE)","v":91.5},89.88,72.55]
["10121486816","061605","0616仁怀市乡镇小学",{"$f":"VLOOKUP(A90,'[2]2020年0905'!$C$1:$H$65536,6,FALSE)","v":91.5},88.12,71.85]
["10121491512","061605","0616仁怀市乡镇小学",{"$f":"VLOOKUP(A91,'[2]2020年0905'!$C$1:$H$65536,6,FALSE)","v":90.5},82.4,69.16]
["10121502504","061605","0616仁怀市乡镇小学",{"$f":"VLOOKUP(A92,'[2]2020年0905'!$C$1:$H$65536,6,FALSE)","v":90.5},79.18,67.87]
["10121511601","061605","0616仁怀市乡镇小学",{"$f":"VLOOKUP(A93,'[2]2020年0905'!$C$1:$H$65536,6,FALSE)","v":89.5},79.92,67.77]
["10121505020","061605","0616仁怀市乡镇小学",{"$f":"VLOOKUP(A94,'[2]2020年0905'!$C$1:$H$65536,6,FALSE)","v":87},86.64,69.46]
["10121487516","061605","0616仁怀市乡镇小学",{"$f":"VLOOKUP(A95,'[2]2020年0905'!$C$1:$H$65536,6,FALSE)","v":86.5},0,34.6]
["10121492423","061605","0616仁怀市乡镇小学",{"$f":"VLOOKUP(A96,'[2]2020年0905'!$C$1:$H$65536,6,FALSE)","v":86.5},78.28,65.91]
["10121481716","061605","0616仁怀市乡镇小学",{"$f":"VLOOKUP(A97,'[2]2020年0905'!$C$1:$H$65536,6,FALSE)","v":86},83.02,67.61]
["10121490828","061605","0616仁怀市乡镇小学",{"$f":"VLOOKUP(A98,'[2]2020年0905'!$C$1:$H$65536,6,FALSE)","v":86},88.42,69.77]
["10121483129","061605","0616仁怀市乡镇小学",{"$f":"VLOOKUP(A99,'[2]2020年0905'!$C$1:$H$65536,6,FALSE)","v":85.5},0,34.2]
["10121483711","061605","0616仁怀市乡镇小学",{"$f":"VLOOKUP(A100,'[2]2020年0905'!$C$1:$H$65536,6,FALSE)","v":85},80.4,66.16]
["10121485009","061605","0616仁怀市乡镇小学",{"$f":"VLOOKUP(A101,'[2]2020年0905'!$C$1:$H$65536,6,FALSE)","v":85},0,34]
["10121504411","061605","0616仁怀市乡镇小学",{"$f":"VLOOKUP(A102,'[2]2020年0905'!$C$1:$H$65536,6,FALSE)","v":84.5},83.04,67.02]
["10121486304","061605","0616仁怀市乡镇小学",{"$f":"VLOOKUP(A103,'[2]2020年0905'!$C$1:$H$65536,6,FALSE)","v":84},85.42,67.77]
["10121491720","061605","0616仁怀市乡镇小学",{"$f":"VLOOKUP(A104,'[2]2020年0905'!$C$1:$H$65536,6,FALSE)","v":84},84.2,67.28]
["10121504312","061605","0616仁怀市乡镇小学",{"$f":"VLOOKUP(A105,'[2]2020年0905'!$C$1:$H$65536,6,FALSE)","v":84},0,33.6]
["10121482328","061606","0616仁怀市乡镇小学",{"$f":"VLOOKUP(A106,'[2]2020年0905'!$C$1:$H$65536,6,FALSE)","v":101},80.48,72.59]
["10121491510","061606","0616仁怀市乡镇小学",{"$f":"VLOOKUP(A107,'[2]2020年0905'!$C$1:$H$65536,6,FALSE)","v":94.5},81.06,70.22]
["10121483330","061606","0616仁怀市乡镇小学",{"$f":"VLOOKUP(A108,'[2]2020年0905'!$C$1:$H$65536,6,FALSE)","v":93.5},83.22,70.69]
["10121482727","061606","0616仁怀市乡镇小学",{"$f":"VLOOKUP(A109,'[2]2020年0905'!$C$1:$H$65536,6,FALSE)","v":91.5},82.76,69.7]
["10121490910","061606","0616仁怀市乡镇小学",{"$f":"VLOOKUP(A110,'[2]2020年0905'!$C$1:$H$65536,6,FALSE)","v":91.5},80.64,68.86]
["10121491820","061606","0616仁怀市乡镇小学",{"$f":"VLOOKUP(A111,'[2]2020年0905'!$C$1:$H$65536,6,FALSE)","v":89.5},80.56,68.02]
["10121493121","061606","0616仁怀市乡镇小学",{"$f":"VLOOKUP(A112,'[2]2020年0905'!$C$1:$H$65536,6,FALSE)","v":89},79.9,67.56]
["10121487804","061606","0616仁怀市乡镇小学",{"$f":"VLOOKUP(A113,'[2]2020年0905'!$C$1:$H$65536,6,FALSE)","v":88},81.9,67.96]
["10121491221","061606","0616仁怀市乡镇小学",{"$f":"VLOOKUP(A114,'[2]2020年0905'!$C$1:$H$65536,6,FALSE)","v":85},85.72,68.29]
["10121492313","061606","0616仁怀市乡镇小学",{"$f":"VLOOKUP(A115,'[2]2020年0905'!$C$1:$H$65536,6,FALSE)","v":85},83.72,67.49]
["10121481927","061606","0616仁怀市乡镇小学",{"$f":"VLOOKUP(A116,'[2]2020年0905'!$C$1:$H$65536,6,FALSE)","v":84.5},81.16,66.26]
["10121504504","061606","0616仁怀市乡镇小学",{"$f":"VLOOKUP(A117,'[2]2020年0905'!$C$1:$H$65536,6,FALSE)","v":84.5},75.84,64.14]
["10121481516","061606","0616仁怀市乡镇小学",{"$f":"VLOOKUP(A118,'[2]2020年0905'!$C$1:$H$65536,6,FALSE)","v":84},77.76,64.7]
["10121500602","061606","0616仁怀市乡镇小学",{"$f":"VLOOKUP(A119,'[2]2020年0905'!$C$1:$H$65536,6,FALSE)","v":83},85.32,67.33]
["10121485605","061606","0616仁怀市乡镇小学",{"$f":"VLOOKUP(A120,'[2]2020年0905'!$C$1:$H$65536,6,FALSE)","v":82.5},79.12,64.65]
["10121500207","061606","0616仁怀市乡镇小学",{"$f":"VLOOKUP(A121,'[2]2020年0905'!$C$1:$H$65536,6,FALSE)","v":82.5},83.42,66.37]
["10121487301","061606","0616仁怀市乡镇小学",{"$f":"VLOOKUP(A122,'[2]2020年0905'!$C$1:$H$65536,6,FALSE)","v":82},0,32.8]
["10121500304","061606","0616仁怀市乡镇小学",{"$f":"VLOOKUP(A123,'[2]2020年0905'!$C$1:$H$65536,6,FALSE)","v":82},78.42,64.17]
["10121484829","061606","0616仁怀市乡镇小学",{"$f":"VLOOKUP(A124,'[2]2020年0905'!$C$1:$H$65536,6,FALSE)","v":81.5},79.32,64.33]
["10121481110","061606","0616仁怀市乡镇小学",{"$f":"VLOOKUP(A125,'[2]2020年0905'!$C$1:$H$65536,6,FALSE)","v":80},0,32]
["10121488109","061606","0616仁怀市乡镇小学",{"$f":"VLOOKUP(A126,'[2]2020年0905'!$C$1:$H$65536,6,FALSE)","v":80},76.44,62.58]
["10121492604","061606","0616仁怀市乡镇小学",{"$f":"VLOOKUP(A127,'[2]2020年0905'!$C$1:$H$65536,6,FALSE)","v":80},80.08,64.03]
["10121482118","061606","0616仁怀市乡镇小学",{"$f":"VLOOKUP(A128,'[2]2020年0905'!$C$1:$H$65536,6,FALSE)","v":79.5},75.26,61.9]
["10121500706","061606","0616仁怀市乡镇小学",{"$f":"VLOOKUP(A129,'[2]2020年0905'!$C$1:$H$65536,6,FALSE)","v":79.5},75.6,62.04]
["10121502915","061606","0616仁怀市乡镇小学",{"$f":"VLOOKUP(A130,'[2]2020年0905'!$C$1:$H$65536,6,FALSE)","v":79.5},0,31.8]
["10121486728","061606","0616仁怀市乡镇小学",{"$f":"VLOOKUP(A131,'[2]2020年0905'!$C$1:$H$65536,6,FALSE)","v":78.5},77.48,{"$f":"ROUND((D131/1.5*0.6+E131*0.4),2)","v":62.39}]
["10121512012","061606","0616仁怀市乡镇小学",{"$f":"VLOOKUP(A132,'[2]2020年0905'!$C$1:$H$65536,6,FALSE)","v":78.5},78.54,62.82]
["10121504909","061609","0616仁怀市乡镇小学",{"$f":"VLOOKUP(A133,'[2]2020年0905'!$C$1:$H$65536,6,FALSE)","v":106.5},79.28,74.31]
["10121486527","061609","0616仁怀市乡镇小学",{"$f":"VLOOKUP(A134,'[2]2020年0905'!$C$1:$H$65536,6,FALSE)","v":94.5},73.2,67.08]
["10121510220","061609","0616仁怀市乡镇小学",{"$f":"VLOOKUP(A135,'[2]2020年0905'!$C$1:$H$65536,6,FALSE)","v":89.5},70,63.8]
["10121483913","061609","0616仁怀市乡镇小学",{"$f":"VLOOKUP(A136,'[2]2020年0905'!$C$1:$H$65536,6,FALSE)","v":89},70.96,63.98]
["10121511709","061609","0616仁怀市乡镇小学",{"$f":"VLOOKUP(A137,'[2]2020年0905'!$C$1:$H$65536,6,FALSE)","v":89},87.18,70.47]
["10121512614","061609","0616仁怀市乡镇小学",{"$f":"VLOOKUP(A138,'[2]2020年0905'!$C$1:$H$65536,6,FALSE)","v":87.5},71.54,63.62]
["10121500116","061609","0616仁怀市乡镇小学",{"$f":"VLOOKUP(A139,'[2]2020年0905'!$C$1:$H$65536,6,FALSE)","v":87},84.2,68.48]
["10121501407","061609","0616仁怀市乡镇小学",{"$f":"VLOOKUP(A140,'[2]2020年0905'!$C$1:$H$65536,6,FALSE)","v":84.5},75.2,63.88]
["10121488912","061609","0616仁怀市乡镇小学",{"$f":"VLOOKUP(A141,'[2]2020年0905'!$C$1:$H$65536,6,FALSE)","v":84},85.28,67.71]
["10121481410","061609","0616仁怀市乡镇小学",{"$f":"VLOOKUP(A142,'[2]2020年0905'!$C$1:$H$65536,6,FALSE)","v":83},79.84,65.14]
["10121490918","061609","0616仁怀市乡镇小学",{"$f":"VLOOKUP(A143,'[2]2020年0905'!$C$1:$H$65536,6,FALSE)","v":81.5},85.06,66.62]
["10121485302","061609","0616仁怀市乡镇小学",{"$f":"VLOOKUP(A144,'[2]2020年0905'!$C$1:$H$65536,6,FALSE)","v":78},70.48,59.39]
["10121502209","061609","0616仁怀市乡镇小学",{"$f":"VLOOKUP(A145,'[2]2020年0905'!$C$1:$H$65536,6,FALSE)","v":77.5},68.9,58.56]
["10121501403","061609","0616仁怀市乡镇小学",{"$f":"VLOOKUP(A146,'[2]2020年0905'!$C$1:$H$65536,6,FALSE)","v":74.5},69.92,57.77]
["10121501019","061609","0616仁怀市乡镇小学",{"$f":"VLOOKUP(A147,'[2]2020年0905'!$C$1:$H$65536,6,FALSE)","v":74},68.56,57.02]
["10121488627","061609","0616仁怀市乡镇小学",{"$f":"VLOOKUP(A148,'[2]2020年0905'!$C$1:$H$65536,6,FALSE)","v":73.5},79.5,61.2]
["10121503502","061609","0616仁怀市乡镇小学",{"$f":"VLOOKUP(A149,'[2]2020年0905'!$C$1:$H$65536,6,FALSE)","v":72.5},85.82,63.33]
["10121480819","061609","0616仁怀市乡镇小学",{"$f":"VLOOKUP(A150,'[2]2020年0905'!$C$1:$H$65536,6,FALSE)","v":65.5},83.4,59.56]
["10121487223","061609","0616仁怀市乡镇小学",{"$f":"VLOOKUP(A151,'[2]2020年0905'!$C$1:$H$65536,6,FALSE)","v":64},79.66,57.46]
["10121488015","061901","0619仁怀市龙井小学",{"$f":"VLOOKUP(A152,'[2]2020年0905'!$C$1:$H$65536,6,FALSE)","v":93.5},78.2,68.68]
["10121483122","061901","0619仁怀市龙井小学",{"$f":"VLOOKUP(A153,'[2]2020年0905'!$C$1:$H$65536,6,FALSE)","v":87.5},82.74,68.1]
["10121500220","061701","0617仁怀市喜头小学",{"$f":"VLOOKUP(A154,'[2]2020年0905'!$C$1:$H$65536,6,FALSE)","v":100.5},82.06,73.02]
["10121492207","061701","0617仁怀市喜头小学",{"$f":"VLOOKUP(A155,'[2]2020年0905'!$C$1:$H$65536,6,FALSE)","v":99.5},84.3,73.52]
["10121490424","061701","0617仁怀市喜头小学",{"$f":"VLOOKUP(A156,'[2]2020年0905'!$C$1:$H$65536,6,FALSE)","v":98},72.52,68.21]
["10121486123","061607","0616仁怀市乡镇小学",{"$f":"VLOOKUP(A157,'[2]2020年0905'!$C$1:$H$65536,6,FALSE)","v":111},79.8,76.32]
["10121481530","061607","0616仁怀市乡镇小学",{"$f":"VLOOKUP(A158,'[2]2020年0905'!$C$1:$H$65536,6,FALSE)","v":95.5},85.26,72.3]
["10121493203","061607","0616仁怀市乡镇小学",{"$f":"VLOOKUP(A159,'[2]2020年0905'!$C$1:$H$65536,6,FALSE)","v":95},72.44,66.98]
["10121501702","061607","0616仁怀市乡镇小学",{"$f":"VLOOKUP(A160,'[2]2020年0905'!$C$1:$H$65536,6,FALSE)","v":93.5},71.38,65.95]
["10121486120","061607","0616仁怀市乡镇小学",{"$f":"VLOOKUP(A161,'[2]2020年0905'!$C$1:$H$65536,6,FALSE)","v":93},77.12,68.05]
["10121488205","061607","0616仁怀市乡镇小学",{"$f":"VLOOKUP(A162,'[2]2020年0905'!$C$1:$H$65536,6,FALSE)","v":93},86.34,71.74]
["10121510611","061607","0616仁怀市乡镇小学",{"$f":"VLOOKUP(A163,'[2]2020年0905'!$C$1:$H$65536,6,FALSE)","v":92.5},84.7,70.88]
["10121483830","061607","0616仁怀市乡镇小学",{"$f":"VLOOKUP(A164,'[2]2020年0905'!$C$1:$H$65536,6,FALSE)","v":90.5},78.02,67.41]
["10121504217","061607","0616仁怀市乡镇小学",{"$f":"VLOOKUP(A165,'[2]2020年0905'!$C$1:$H$65536,6,FALSE)","v":90.5},73.54,65.62]
["10121481718","061607","0616仁怀市乡镇小学",{"$f":"VLOOKUP(A166,'[2]2020年0905'!$C$1:$H$65536,6,FALSE)","v":90},82.4,68.96]
["10121486909","061607","0616仁怀市乡镇小学",{"$f":"VLOOKUP(A167,'[2]2020年0905'!$C$1:$H$65536,6,FALSE)","v":85},0,34]
["10121487530","061607","0616仁怀市乡镇小学",{"$f":"VLOOKUP(A168,'[2]2020年0905'!$C$1:$H$65536,6,FALSE)","v":85},0,34]
["10121491920","061607","0616仁怀市乡镇小学",{"$f":"VLOOKUP(A169,'[2]2020年0905'!$C$1:$H$65536,6,FALSE)","v":85},74.18,63.67]
["10121481619","061607","0616仁怀市乡镇小学",{"$f":"VLOOKUP(A170,'[2]2020年0905'!$C$1:$H$65536,6,FALSE)","v":83},74.06,62.82]
["10121501215","061607","0616仁怀市乡镇小学",{"$f":"VLOOKUP(A171,'[2]2020年0905'!$C$1:$H$65536,6,FALSE)","v":82.5},75.24,63.1]
["10121488104","061607","0616仁怀市乡镇小学",{"$f":"VLOOKUP(A172,'[2]2020年0905'!$C$1:$H$65536,6,FALSE)","v":81.5},0,32.6]
["10121493107","061607","0616仁怀市乡镇小学",{"$f":"VLOOKUP(A173,'[2]2020年0905'!$C$1:$H$65536,6,FALSE)","v":79.5},0,31.8]
["10121493703","061607","0616仁怀市乡镇小学",{"$f":"VLOOKUP(A174,'[2]2020年0905'!$C$1:$H$65536,6,FALSE)","v":79},0,31.6]
["10121491123","061607","0616仁怀市乡镇小学",{"$f":"VLOOKUP(A175,'[2]2020年0905'!$C$1:$H$65536,6,FALSE)","v":78.5},0,31.4]
["10121484526","061607","0616仁怀市乡镇小学",{"$f":"VLOOKUP(A176,'[2]2020年0905'!$C$1:$H$65536,6,FALSE)","v":77},73.44,60.18]
["10121503422","061607","0616仁怀市乡镇小学",{"$f":"VLOOKUP(A177,'[2]2020年0905'!$C$1:$H$65536,6,FALSE)","v":77},73.16,60.06]
["10121512416","061607","0616仁怀市乡镇小学",{"$f":"VLOOKUP(A178,'[2]2020年0905'!$C$1:$H$65536,6,FALSE)","v":77},69.06,58.42]
["10121480903","061607","0616仁怀市乡镇小学",{"$f":"VLOOKUP(A179,'[2]2020年0905'!$C$1:$H$65536,6,FALSE)","v":76.5},75.36,60.74]
["10121481620","061607","0616仁怀市乡镇小学",{"$f":"VLOOKUP(A180,'[2]2020年0905'!$C$1:$H$65536,6,FALSE)","v":73},70.58,57.43]
["10121485317","061607","0616仁怀市乡镇小学",{"$f":"VLOOKUP(A181,'[2]2020年0905'!$C$1:$H$65536,6,FALSE)","v":72},78.1,60.04]
["10121501011","061607","0616仁怀市乡镇小学",{"$f":"VLOOKUP(A182,'[2]2020年0905'!$C$1:$H$65536,6,FALSE)","v":71},0,28.4]
["10121504707","061608","0616仁怀市乡镇小学",{"$f":"VLOOKUP(A183,'[2]2020年0905'!$C$1:$H$65536,6,FALSE)","v":102.5},83.24,74.3]
["10121490707","061608","0616仁怀市乡镇小学",{"$f":"VLOOKUP(A184,'[2]2020年0905'!$C$1:$H$65536,6,FALSE)","v":95.5},82.92,71.37]
["10121500701","061608","0616仁怀市乡镇小学",{"$f":"VLOOKUP(A185,'[2]2020年0905'!$C$1:$H$65536,6,FALSE)","v":95.5},85.82,72.53]
["10121494029","061608","0616仁怀市乡镇小学",{"$f":"VLOOKUP(A186,'[2]2020年0905'!$C$1:$H$65536,6,FALSE)","v":93},86.42,71.77]
["10121491105","061608","0616仁怀市乡镇小学",{"$f":"VLOOKUP(A187,'[2]2020年0905'!$C$1:$H$65536,6,FALSE)","v":92.5},79.5,68.8]
["10121503907","061608","0616仁怀市乡镇小学",{"$f":"VLOOKUP(A188,'[2]2020年0905'!$C$1:$H$65536,6,FALSE)","v":92.5},85.76,71.3]
["10121488718","061608","0616仁怀市乡镇小学",{"$f":"VLOOKUP(A189,'[2]2020年0905'!$C$1:$H$65536,6,FALSE)","v":91.5},84.52,70.41]
["10121512428","061608","0616仁怀市乡镇小学",{"$f":"VLOOKUP(A190,'[2]2020年0905'!$C$1:$H$65536,6,FALSE)","v":89},83.04,68.82]
["10121503121","061608","0616仁怀市乡镇小学",{"$f":"VLOOKUP(A191,'[2]2020年0905'!$C$1:$H$65536,6,FALSE)","v":87.5},86.8,69.72]
["10121481406","061608","0616仁怀市乡镇小学",{"$f":"VLOOKUP(A192,'[2]2020年0905'!$C$1:$H$65536,6,FALSE)","v":87},78.94,66.38]
["10121485427","061608","0616仁怀市乡镇小学",{"$f":"VLOOKUP(A193,'[2]2020年0905'!$C$1:$H$65536,6,FALSE)","v":87},87.52,69.81]
["10121488228","061608","0616仁怀市乡镇小学",{"$f":"VLOOKUP(A194,'[2]2020年0905'!$C$1:$H$65536,6,FALSE)","v":86.5},87.38,69.55]
["10121500923","061608","0616仁怀市乡镇小学",{"$f":"VLOOKUP(A195,'[2]2020年0905'!$C$1:$H$65536,6,FALSE)","v":84.5},82.9,{"$f":"ROUND((D195/1.5*0.6+E195*0.4),2)","v":66.96}]
["10121502425","061608","0616仁怀市乡镇小学",{"$f":"VLOOKUP(A196,'[2]2020年0905'!$C$1:$H$65536,6,FALSE)","v":83.5},82.5,66.4]
["10121488405","061608","0616仁怀市乡镇小学",{"$f":"VLOOKUP(A197,'[2]2020年0905'!$C$1:$H$65536,6,FALSE)","v":82},83.9,66.36]
["10121512408","061608","0616仁怀市乡镇小学",{"$f":"VLOOKUP(A198,'[2]2020年0905'!$C$1:$H$65536,6,FALSE)","v":80.5},82.4,65.16]
["10121500521","061608","0616仁怀市乡镇小学",{"$f":"VLOOKUP(A199,'[2]2020年0905'!$C$1:$H$65536,6,FALSE)","v":78.5},81.04,63.82]
["10121501324","061608","0616仁怀市乡镇小学",{"$f":"VLOOKUP(A200,'[2]2020年0905'!$C$1:$H$65536,6,FALSE)","v":76},79.74,62.3]
["10121502706","061608","0616仁怀市乡镇小学",{"$f":"VLOOKUP(A201,'[2]2020年0905'!$C$1:$H$65536,6,FALSE)","v":75},86.5,64.6]
["10121502901","061608","0616仁怀市乡镇小学",{"$f":"VLOOKUP(A202,'[2]2020年0905'!$C$1:$H$65536,6,FALSE)","v":74},81.64,62.26]
["10121480217","061608","0616仁怀市乡镇小学",{"$f":"VLOOKUP(A203,'[2]2020年0905'!$C$1:$H$65536,6,FALSE)","v":72.5},70.98,57.39]
["10121490530","061608","0616仁怀市乡镇小学",{"$f":"VLOOKUP(A204,'[2]2020年0905'!$C$1:$H$65536,6,FALSE)","v":70.5},0,28.2]
["10121501428","061608","0616仁怀市乡镇小学",{"$f":"VLOOKUP(A205,'[2]2020年0905'!$C$1:$H$65536,6,FALSE)","v":70},0,28]
["10121504509","061608","0616仁怀市乡镇小学",{"$f":"VLOOKUP(A206,'[2]2020年0905'!$C$1:$H$65536,6,FALSE)","v":70},0,28]
["10121480624","061608","0616仁怀市乡镇小学",{"$f":"VLOOKUP(A207,'[2]2020年0905'!$C$1:$H$65536,6,FALSE)","v":69.5},0,27.8]
["10121488216","061608","0616仁怀市乡镇小学",{"$f":"VLOOKUP(A208,'[2]2020年0905'!$C$1:$H$65536,6,FALSE)","v":69.5},0,27.8]
["10121503630","061608","0616仁怀市乡镇小学",{"$f":"VLOOKUP(A209,'[2]2020年0905'!$C$1:$H$65536,6,FALSE)","v":69.5},0,27.8]
["10121493528","061608","0616仁怀市乡镇小学",{"$f":"VLOOKUP(A210,'[2]2020年0905'!$C$1:$H$65536,6,FALSE)","v":68},78.98,58.79]
["10121485218","061610","0616仁怀市乡镇小学",{"$f":"VLOOKUP(A211,'[2]2020年0905'!$C$1:$H$65536,6,FALSE)","v":113},82.42,78.17]
["10121483713","061610","0616仁怀市乡镇小学",{"$f":"VLOOKUP(A212,'[2]2020年0905'!$C$1:$H$65536,6,FALSE)","v":112.5},81.98,77.79]
["10121504702","061610","0616仁怀市乡镇小学",{"$f":"VLOOKUP(A213,'[2]2020年0905'!$C$1:$H$65536,6,FALSE)","v":108},82.98,76.39]
["10121485214","061610","0616仁怀市乡镇小学",{"$f":"VLOOKUP(A214,'[2]2020年0905'!$C$1:$H$65536,6,FALSE)","v":102.5},74.12,70.65]
["10121483801","061610","0616仁怀市乡镇小学",{"$f":"VLOOKUP(A215,'[2]2020年0905'!$C$1:$H$65536,6,FALSE)","v":100},84.74,73.9]
["10121502023","061610","0616仁怀市乡镇小学",{"$f":"VLOOKUP(A216,'[2]2020年0905'!$C$1:$H$65536,6,FALSE)","v":99},82.22,72.49]
["10121511625","061610","0616仁怀市乡镇小学",{"$f":"VLOOKUP(A217,'[2]2020年0905'!$C$1:$H$65536,6,FALSE)","v":99},84.5,73.4]
["10121484628","061610","0616仁怀市乡镇小学",{"$f":"VLOOKUP(A218,'[2]2020年0905'!$C$1:$H$65536,6,FALSE)","v":98},84.7,73.08]
["10121503604","061610","0616仁怀市乡镇小学",{"$f":"VLOOKUP(A219,'[2]2020年0905'!$C$1:$H$65536,6,FALSE)","v":96.5},73.8,68.12]
["10121480817","061610","0616仁怀市乡镇小学",{"$f":"VLOOKUP(A220,'[2]2020年0905'!$C$1:$H$65536,6,FALSE)","v":96},86.18,72.87]
["10121482319","061610","0616仁怀市乡镇小学",{"$f":"VLOOKUP(A221,'[2]2020年0905'!$C$1:$H$65536,6,FALSE)","v":96},0,38.4]
["10121485129","061610","0616仁怀市乡镇小学",{"$f":"VLOOKUP(A222,'[2]2020年0905'!$C$1:$H$65536,6,FALSE)","v":96},77.12,69.25]
["10121490925","061610","0616仁怀市乡镇小学",{"$f":"VLOOKUP(A223,'[2]2020年0905'!$C$1:$H$65536,6,FALSE)","v":95.5},83.5,71.6]
["10121493020","061610","0616仁怀市乡镇小学",{"$f":"VLOOKUP(A224,'[2]2020年0905'!$C$1:$H$65536,6,FALSE)","v":94},86.1,72.04]
["10121510803","061610","0616仁怀市乡镇小学",{"$f":"VLOOKUP(A225,'[2]2020年0905'!$C$1:$H$65536,6,FALSE)","v":94},85.4,71.76]
["10121492727","061610","0616仁怀市乡镇小学",{"$f":"VLOOKUP(A226,'[2]2020年0905'!$C$1:$H$65536,6,FALSE)","v":92.5},82.42,69.97]
["10121482018","061610","0616仁怀市乡镇小学",{"$f":"VLOOKUP(A227,'[2]2020年0905'!$C$1:$H$65536,6,FALSE)","v":91.5},81.36,69.14]
["10121492116","061610","0616仁怀市乡镇小学",{"$f":"VLOOKUP(A228,'[2]2020年0905'!$C$1:$H$65536,6,FALSE)","v":91.5},80.28,68.71]
["10121494024","061610","0616仁怀市乡镇小学",{"$f":"VLOOKUP(A229,'[2]2020年0905'!$C$1:$H$65536,6,FALSE)","v":91.5},82.54,69.62]
["10121504327","061610","0616仁怀市乡镇小学",{"$f":"VLOOKUP(A230,'[2]2020年0905'!$C$1:$H$65536,6,FALSE)","v":90.5},80.54,68.42]
["10121480424","061610","0616仁怀市乡镇小学",{"$f":"VLOOKUP(A231,'[2]2020年0905'!$C$1:$H$65536,6,FALSE)","v":90},79,67.6]
["10121490715","061610","0616仁怀市乡镇小学",{"$f":"VLOOKUP(A232,'[2]2020年0905'!$C$1:$H$65536,6,FALSE)","v":90},75.4,66.16]
["10121490723","061610","0616仁怀市乡镇小学",{"$f":"VLOOKUP(A233,'[2]2020年0905'!$C$1:$H$65536,6,FALSE)","v":90},71.78,64.71]
["10121500624","061610","0616仁怀市乡镇小学",{"$f":"VLOOKUP(A234,'[2]2020年0905'!$C$1:$H$65536,6,FALSE)","v":90},73.62,65.45]
["10121501508","061610","0616仁怀市乡镇小学",{"$f":"VLOOKUP(A235,'[2]2020年0905'!$C$1:$H$65536,6,FALSE)","v":90},82.74,69.1]
["10121504716","061610","0616仁怀市乡镇小学",{"$f":"VLOOKUP(A236,'[2]2020年0905'!$C$1:$H$65536,6,FALSE)","v":90},77.22,66.89]
["10121487729","061610","0616仁怀市乡镇小学",{"$f":"VLOOKUP(A237,'[2]2020年0905'!$C$1:$H$65536,6,FALSE)","v":89.5},82.08,68.63]
["10121488417","061610","0616仁怀市乡镇小学",{"$f":"VLOOKUP(A238,'[2]2020年0905'!$C$1:$H$65536,6,FALSE)","v":89.5},74.56,65.62]
["10121501229","061610","0616仁怀市乡镇小学",{"$f":"VLOOKUP(A239,'[2]2020年0905'!$C$1:$H$65536,6,FALSE)","v":89.5},82.78,68.91]
["10121510214","061610","0616仁怀市乡镇小学",{"$f":"VLOOKUP(A240,'[2]2020年0905'!$C$1:$H$65536,6,FALSE)","v":89.5},85.52,70.01]
["10121511323","061611","0616仁怀市乡镇小学",{"$f":"VLOOKUP(A241,'[2]2020年0905'!$C$1:$H$65536,6,FALSE)","v":115.5},83.92,79.77]
["10121481127","061611","0616仁怀市乡镇小学",{"$f":"VLOOKUP(A242,'[2]2020年0905'!$C$1:$H$65536,6,FALSE)","v":99},80.96,71.98]
["10121504402","061611","0616仁怀市乡镇小学",{"$f":"VLOOKUP(A243,'[2]2020年0905'!$C$1:$H$65536,6,FALSE)","v":94.5},85.26,71.9]
["10121488806","061611","0616仁怀市乡镇小学",{"$f":"VLOOKUP(A244,'[2]2020年0905'!$C$1:$H$65536,6,FALSE)","v":93},79.8,69.12]
["10121500830","061611","0616仁怀市乡镇小学",{"$f":"VLOOKUP(A245,'[2]2020年0905'!$C$1:$H$65536,6,FALSE)","v":92.5},84.46,70.78]
["10121485922","061611","0616仁怀市乡镇小学",{"$f":"VLOOKUP(A246,'[2]2020年0905'!$C$1:$H$65536,6,FALSE)","v":92},82.34,69.74]
["10121483720","061611","0616仁怀市乡镇小学",{"$f":"VLOOKUP(A247,'[2]2020年0905'!$C$1:$H$65536,6,FALSE)","v":90.5},87.4,71.16]
["10121488929","061611","0616仁怀市乡镇小学",{"$f":"VLOOKUP(A248,'[2]2020年0905'!$C$1:$H$65536,6,FALSE)","v":88},85.7,69.48]
["10121480901","061611","0616仁怀市乡镇小学",{"$f":"VLOOKUP(A249,'[2]2020年0905'!$C$1:$H$65536,6,FALSE)","v":87},83.44,68.18]
["10121485514","061611","0616仁怀市乡镇小学",{"$f":"VLOOKUP(A250,'[2]2020年0905'!$C$1:$H$65536,6,FALSE)","v":85},83.06,67.22]
["10121490228","061611","0616仁怀市乡镇小学",{"$f":"VLOOKUP(A251,'[2]2020年0905'!$C$1:$H$65536,6,FALSE)","v":84},83.48,66.99]
["10121501327","061611","0616仁怀市乡镇小学",{"$f":"VLOOKUP(A252,'[2]2020年0905'!$C$1:$H$65536,6,FALSE)","v":83.5},83.98,66.99]
["10121481521","061611","0616仁怀市乡镇小学",{"$f":"VLOOKUP(A253,'[2]2020年0905'!$C$1:$H$65536,6,FALSE)","v":83},84.9,67.16]
["10121486622","061611","0616仁怀市乡镇小学",{"$f":"VLOOKUP(A254,'[2]2020年0905'!$C$1:$H$65536,6,FALSE)","v":83},77.5,64.2]
["10121492716","061611","0616仁怀市乡镇小学",{"$f":"VLOOKUP(A255,'[2]2020年0905'!$C$1:$H$65536,6,FALSE)","v":83},66.9,59.96]
["10121511413","061611","0616仁怀市乡镇小学",{"$f":"VLOOKUP(A256,'[2]2020年0905'!$C$1:$H$65536,6,FALSE)","v":83},74.58,63.03]
["10121485611","061611","0616仁怀市乡镇小学",{"$f":"VLOOKUP(A257,'[2]2020年0905'!$C$1:$H$65536,6,FALSE)","v":82.5},82.14,65.86]
["10121488720","061611","0616仁怀市乡镇小学",{"$f":"VLOOKUP(A258,'[2]2020年0905'!$C$1:$H$65536,6,FALSE)","v":82.5},0,33]
["10121492226","061611","0616仁怀市乡镇小学",{"$f":"VLOOKUP(A259,'[2]2020年0905'!$C$1:$H$65536,6,FALSE)","v":82.5},83.32,{"$f":"ROUND((D259/1.5*0.6+E259*0.4),2)","v":66.33}]
["10121502803","061611","0616仁怀市乡镇小学",{"$f":"VLOOKUP(A260,'[2]2020年0905'!$C$1:$H$65536,6,FALSE)","v":82},80.12,64.85]
["10121510613","061611","0616仁怀市乡镇小学",{"$f":"VLOOKUP(A261,'[2]2020年0905'!$C$1:$H$65536,6,FALSE)","v":82},79.34,64.54]
["10121486712","061612","0616仁怀市乡镇小学",{"$f":"VLOOKUP(A262,'[2]2020年0905'!$C$1:$H$65536,6,FALSE)","v":99.5},81.46,72.38]
["10121511811","061612","0616仁怀市乡镇小学",{"$f":"VLOOKUP(A263,'[2]2020年0905'!$C$1:$H$65536,6,FALSE)","v":95},78.1,69.24]
["10121502306","061612","0616仁怀市乡镇小学",{"$f":"VLOOKUP(A264,'[2]2020年0905'!$C$1:$H$65536,6,FALSE)","v":93},80.36,69.34]
["10121490601","061612","0616仁怀市乡镇小学",{"$f":"VLOOKUP(A265,'[2]2020年0905'!$C$1:$H$65536,6,FALSE)","v":92.5},84.98,70.99]
["10121485725","061612","0616仁怀市乡镇小学",{"$f":"VLOOKUP(A266,'[2]2020年0905'!$C$1:$H$65536,6,FALSE)","v":91},83.3,69.72]
["10121486724","061612","0616仁怀市乡镇小学",{"$f":"VLOOKUP(A267,'[2]2020年0905'!$C$1:$H$65536,6,FALSE)","v":89.5},86.24,70.3]
["10121504419","061612","0616仁怀市乡镇小学",{"$f":"VLOOKUP(A268,'[2]2020年0905'!$C$1:$H$65536,6,FALSE)","v":88.5},82.3,68.32]
["10121483513","061612","0616仁怀市乡镇小学",{"$f":"VLOOKUP(A269,'[2]2020年0905'!$C$1:$H$65536,6,FALSE)","v":87.5},86.14,69.46]
["10121491710","061612","0616仁怀市乡镇小学",{"$f":"VLOOKUP(A270,'[2]2020年0905'!$C$1:$H$65536,6,FALSE)","v":86},86.74,69.1]
["10121493810","061612","0616仁怀市乡镇小学",{"$f":"VLOOKUP(A271,'[2]2020年0905'!$C$1:$H$65536,6,FALSE)","v":86},79.34,66.14]
["10121502518","061612","0616仁怀市乡镇小学",{"$f":"VLOOKUP(A272,'[2]2020年0905'!$C$1:$H$65536,6,FALSE)","v":86},86.54,69.02]
["10121485917","061612","0616仁怀市乡镇小学",{"$f":"VLOOKUP(A273,'[2]2020年0905'!$C$1:$H$65536,6,FALSE)","v":85.5},84.3,67.92]
["10121504826","061612","0616仁怀市乡镇小学",{"$f":"VLOOKUP(A274,'[2]2020年0905'!$C$1:$H$65536,6,FALSE)","v":85.5},84.94,68.18]
["10121511622","061612","0616仁怀市乡镇小学",{"$f":"VLOOKUP(A275,'[2]2020年0905'!$C$1:$H$65536,6,FALSE)","v":85.5},83.08,67.43]
["10121511705","061612","0616仁怀市乡镇小学",{"$f":"VLOOKUP(A276,'[2]2020年0905'!$C$1:$H$65536,6,FALSE)","v":84},88.28,68.91]
["10121487903","061612","0616仁怀市乡镇小学",{"$f":"VLOOKUP(A277,'[2]2020年0905'!$C$1:$H$65536,6,FALSE)","v":83},83.68,66.67]
["10121481611","061612","0616仁怀市乡镇小学",{"$f":"VLOOKUP(A278,'[2]2020年0905'!$C$1:$H$65536,6,FALSE)","v":82},0,32.8]
["10121510915","061612","0616仁怀市乡镇小学",{"$f":"VLOOKUP(A279,'[2]2020年0905'!$C$1:$H$65536,6,FALSE)","v":81.5},82.29,65.52]
["10121512119","061612","0616仁怀市乡镇小学",{"$f":"VLOOKUP(A280,'[2]2020年0905'!$C$1:$H$65536,6,FALSE)","v":81.5},73.96,62.18]
["10121484421","061612","0616仁怀市乡镇小学",{"$f":"VLOOKUP(A281,'[2]2020年0905'!$C$1:$H$65536,6,FALSE)","v":80.5},84.38,65.95]
["10121483319","061612","0616仁怀市乡镇小学",{"$f":"VLOOKUP(A282,'[2]2020年0905'!$C$1:$H$65536,6,FALSE)","v":80},86.64,66.66]
["10121490608","061613","0616仁怀市乡镇小学",{"$f":"VLOOKUP(A283,'[2]2020年0905'!$C$1:$H$65536,6,FALSE)","v":114},80.48,77.79]
["10121482202","061613","0616仁怀市乡镇小学",{"$f":"VLOOKUP(A284,'[2]2020年0905'!$C$1:$H$65536,6,FALSE)","v":84},81,66]
["10121481102","061613","0616仁怀市乡镇小学",{"$f":"VLOOKUP(A285,'[2]2020年0905'!$C$1:$H$65536,6,FALSE)","v":84},76.38,64.15]
["10121484722","061613","0616仁怀市乡镇小学",{"$f":"VLOOKUP(A286,'[2]2020年0905'!$C$1:$H$65536,6,FALSE)","v":84.5},81.44,66.38]
["10121482518","061613","0616仁怀市乡镇小学",{"$f":"VLOOKUP(A287,'[2]2020年0905'!$C$1:$H$65536,6,FALSE)","v":91.5},79.08,68.23]
["10121485924","061613","0616仁怀市乡镇小学",{"$f":"VLOOKUP(A288,'[2]2020年0905'!$C$1:$H$65536,6,FALSE)","v":86.5},80.42,66.77]
["10121488416","061613","0616仁怀市乡镇小学",{"$f":"VLOOKUP(A289,'[2]2020年0905'!$C$1:$H$65536,6,FALSE)","v":84.5},83.64,67.26]
["10121487115","061613","0616仁怀市乡镇小学",{"$f":"VLOOKUP(A290,'[2]2020年0905'!$C$1:$H$65536,6,FALSE)","v":87},76.54,65.42]
["10121500518","061613","0616仁怀市乡镇小学",{"$f":"VLOOKUP(A291,'[2]2020年0905'!$C$1:$H$65536,6,FALSE)","v":94},85.98,71.99]
["10121504226","061613","0616仁怀市乡镇小学",{"$f":"VLOOKUP(A292,'[2]2020年0905'!$C$1:$H$65536,6,FALSE)","v":92},80.9,69.16]
["10121485805","061613","0616仁怀市乡镇小学",{"$f":"VLOOKUP(A293,'[2]2020年0905'!$C$1:$H$65536,6,FALSE)","v":85.5},82.42,67.17]
["10121503712","061613","0616仁怀市乡镇小学",{"$f":"VLOOKUP(A294,'[2]2020年0905'!$C$1:$H$65536,6,FALSE)","v":85},82.94,67.18]
["10121503326","061613","0616仁怀市乡镇小学",{"$f":"VLOOKUP(A295,'[2]2020年0905'!$C$1:$H$65536,6,FALSE)","v":86.5},83.78,68.11]
["10121501806","061613","0616仁怀市乡镇小学",{"$f":"VLOOKUP(A296,'[2]2020年0905'!$C$1:$H$65536,6,FALSE)","v":87.5},85.34,69.14]
["10121482920","061613","0616仁怀市乡镇小学",{"$f":"VLOOKUP(A297,'[2]2020年0905'!$C$1:$H$65536,6,FALSE)","v":89},82.06,68.42]
["10121480105","061613","0616仁怀市乡镇小学",{"$f":"VLOOKUP(A298,'[2]2020年0905'!$C$1:$H$65536,6,FALSE)","v":90.5},81.46,68.78]
["10121481426","061613","0616仁怀市乡镇小学",{"$f":"VLOOKUP(A299,'[2]2020年0905'!$C$1:$H$65536,6,FALSE)","v":93},80.92,69.57]
["10121484426","061613","0616仁怀市乡镇小学",{"$f":"VLOOKUP(A300,'[2]2020年0905'!$C$1:$H$65536,6,FALSE)","v":91.5},82.96,69.78]
["10121501103","061613","0616仁怀市乡镇小学",{"$f":"VLOOKUP(A301,'[2]2020年0905'!$C$1:$H$65536,6,FALSE)","v":91},83.2,69.68]
["10121481404","062001","0620仁怀市学孔幼儿园",{"$f":"VLOOKUP(A302,'[2]2020年0905'!$C$1:$H$65536,6,FALSE)","v":89},79.34,67.34]
["10121493225","062001","0620仁怀市学孔幼儿园",{"$f":"VLOOKUP(A303,'[2]2020年0905'!$C$1:$H$65536,6,FALSE)","v":74},86.84,64.34]
["10121490504","062001","0620仁怀市学孔幼儿园",{"$f":"VLOOKUP(A304,'[2]2020年0905'!$C$1:$H$65536,6,FALSE)","v":73.5},74.06,59.02]
["10121492718","062105","0621仁怀市乡镇幼儿园",{"$f":"VLOOKUP(A305,'[2]2020年0905'!$C$1:$H$65536,6,FALSE)","v":97},73.14,68.06]
["10121501421","062105","0621仁怀市乡镇幼儿园",{"$f":"VLOOKUP(A306,'[2]2020年0905'!$C$1:$H$65536,6,FALSE)","v":93.5},86.12,71.85]
["10121483118","062105","0621仁怀市乡镇幼儿园",{"$f":"VLOOKUP(A307,'[2]2020年0905'!$C$1:$H$65536,6,FALSE)","v":90},87.36,70.94]
["10121484626","062105","0621仁怀市乡镇幼儿园",{"$f":"VLOOKUP(A308,'[2]2020年0905'!$C$1:$H$65536,6,FALSE)","v":89},80.92,67.97]
["10121510403","062105","0621仁怀市乡镇幼儿园",{"$f":"VLOOKUP(A309,'[2]2020年0905'!$C$1:$H$65536,6,FALSE)","v":89},82.48,68.59]
["10121486011","062105","0621仁怀市乡镇幼儿园",{"$f":"VLOOKUP(A310,'[2]2020年0905'!$C$1:$H$65536,6,FALSE)","v":87.5},79.34,66.74]
["10121510807","062105","0621仁怀市乡镇幼儿园",{"$f":"VLOOKUP(A311,'[2]2020年0905'!$C$1:$H$65536,6,FALSE)","v":87.5},82.7,68.08]
["10121511014","062105","0621仁怀市乡镇幼儿园",{"$f":"VLOOKUP(A312,'[2]2020年0905'!$C$1:$H$65536,6,FALSE)","v":87},82.46,67.78]
["10121503020","062105","0621仁怀市乡镇幼儿园",{"$f":"VLOOKUP(A313,'[2]2020年0905'!$C$1:$H$65536,6,FALSE)","v":86.5},86.46,69.18]
["10121511801","062105","0621仁怀市乡镇幼儿园",{"$f":"VLOOKUP(A314,'[2]2020年0905'!$C$1:$H$65536,6,FALSE)","v":86.5},83.52,68.01]
["10121485607","062105","0621仁怀市乡镇幼儿园",{"$f":"VLOOKUP(A315,'[2]2020年0905'!$C$1:$H$65536,6,FALSE)","v":85.5},69.76,62.1]
["10121500907","062105","0621仁怀市乡镇幼儿园",{"$f":"VLOOKUP(A316,'[2]2020年0905'!$C$1:$H$65536,6,FALSE)","v":85},58.42,57.37]
["10121484424","062105","0621仁怀市乡镇幼儿园",{"$f":"VLOOKUP(A317,'[2]2020年0905'!$C$1:$H$65536,6,FALSE)","v":84},74.22,63.29]
["10121501729","062105","0621仁怀市乡镇幼儿园",{"$f":"VLOOKUP(A318,'[2]2020年0905'!$C$1:$H$65536,6,FALSE)","v":84},80.9,65.96]
["10121480315","062105","0621仁怀市乡镇幼儿园",{"$f":"VLOOKUP(A319,'[2]2020年0905'!$C$1:$H$65536,6,FALSE)","v":82.5},77.66,64.06]
["10121483518","062105","0621仁怀市乡镇幼儿园",{"$f":"VLOOKUP(A320,'[2]2020年0905'!$C$1:$H$65536,6,FALSE)","v":82.5},84.56,66.82]
["10121501125","062105","0621仁怀市乡镇幼儿园",{"$f":"VLOOKUP(A321,'[2]2020年0905'!$C$1:$H$65536,6,FALSE)","v":82.5},77.24,63.9]
["10121486619","062105","0621仁怀市乡镇幼儿园",{"$f":"VLOOKUP(A322,'[2]2020年0905'!$C$1:$H$65536,6,FALSE)","v":82},82.08,65.63]
["10121487630","062105","0621仁怀市乡镇幼儿园",{"$f":"VLOOKUP(A323,'[2]2020年0905'!$C$1:$H$65536,6,FALSE)","v":82},84.7,{"$f":"ROUND((D323/1.5*0.6+E323*0.4),2)","v":66.68}]
["10121502103","062105","0621仁怀市乡镇幼儿园",{"$f":"VLOOKUP(A324,'[2]2020年0905'!$C$1:$H$65536,6,FALSE)","v":81},74.7,62.28]
["10121490825","062105","0621仁怀市乡镇幼儿园",{"$f":"VLOOKUP(A325,'[2]2020年0905'!$C$1:$H$65536,6,FALSE)","v":80.5},80.28,64.31]
["10121511908","062105","0621仁怀市乡镇幼儿园",{"$f":"VLOOKUP(A326,'[2]2020年0905'!$C$1:$H$65536,6,FALSE)","v":80.5},86.44,66.78]
["10121510625","062105","0621仁怀市乡镇幼儿园",{"$f":"VLOOKUP(A327,'[2]2020年0905'!$C$1:$H$65536,6,FALSE)","v":80},81.38,64.55]
["10121501005","062105","0621仁怀市乡镇幼儿园",{"$f":"VLOOKUP(A328,'[2]2020年0905'!$C$1:$H$65536,6,FALSE)","v":79},78.64,63.06]
["10121487923","062105","0621仁怀市乡镇幼儿园",{"$f":"VLOOKUP(A329,'[2]2020年0905'!$C$1:$H$65536,6,FALSE)","v":78.5},0,31.4]
["10121510230","062105","0621仁怀市乡镇幼儿园",{"$f":"VLOOKUP(A330,'[2]2020年0905'!$C$1:$H$65536,6,FALSE)","v":78.5},85.98,65.79]
["10121493424","062105","0621仁怀市乡镇幼儿园",{"$f":"VLOOKUP(A331,'[2]2020年0905'!$C$1:$H$65536,6,FALSE)","v":78},79.72,63.09]
["10121500927","062101","0621仁怀市乡镇幼儿园",{"$f":"VLOOKUP(A332,'[2]2020年0905'!$C$1:$H$65536,6,FALSE)","v":99.5},84.28,73.51]
["10121501024","062101","0621仁怀市乡镇幼儿园",{"$f":"VLOOKUP(A333,'[2]2020年0905'!$C$1:$H$65536,6,FALSE)","v":92},84.46,70.58]
["10121492117","062101","0621仁怀市乡镇幼儿园",{"$f":"VLOOKUP(A334,'[2]2020年0905'!$C$1:$H$65536,6,FALSE)","v":90.5},83.52,69.61]
["10121502304","062101","0621仁怀市乡镇幼儿园",{"$f":"VLOOKUP(A335,'[2]2020年0905'!$C$1:$H$65536,6,FALSE)","v":89.5},81.2,68.28]
["10121493527","062101","0621仁怀市乡镇幼儿园",{"$f":"VLOOKUP(A336,'[2]2020年0905'!$C$1:$H$65536,6,FALSE)","v":85},88.96,69.58]
["10121491314","062101","0621仁怀市乡镇幼儿园",{"$f":"VLOOKUP(A337,'[2]2020年0905'!$C$1:$H$65536,6,FALSE)","v":83.5},85.7,67.68]
["10121503717","062101","0621仁怀市乡镇幼儿园",{"$f":"VLOOKUP(A338,'[2]2020年0905'!$C$1:$H$65536,6,FALSE)","v":83.5},80.52,65.61]
["10121501530","062101","0621仁怀市乡镇幼儿园",{"$f":"VLOOKUP(A339,'[2]2020年0905'!$C$1:$H$65536,6,FALSE)","v":83},82.84,66.34]
["10121488713","062101","0621仁怀市乡镇幼儿园",{"$f":"VLOOKUP(A340,'[2]2020年0905'!$C$1:$H$65536,6,FALSE)","v":81},82.08,65.23]
["10121491614","062101","0621仁怀市乡镇幼儿园",{"$f":"VLOOKUP(A341,'[2]2020年0905'!$C$1:$H$65536,6,FALSE)","v":81},83,65.6]
["10121492327","062101","0621仁怀市乡镇幼儿园",{"$f":"VLOOKUP(A342,'[2]2020年0905'!$C$1:$H$65536,6,FALSE)","v":80.5},87.1,67.04]
["10121492630","062101","0621仁怀市乡镇幼儿园",{"$f":"VLOOKUP(A343,'[2]2020年0905'!$C$1:$H$65536,6,FALSE)","v":79},84.52,65.41]
["10121481413","062101","0621仁怀市乡镇幼儿园",{"$f":"VLOOKUP(A344,'[2]2020年0905'!$C$1:$H$65536,6,FALSE)","v":78.5},84.56,65.22]
["10121510410","062101","0621仁怀市乡镇幼儿园",{"$f":"VLOOKUP(A345,'[2]2020年0905'!$C$1:$H$65536,6,FALSE)","v":76},79.6,62.24]
["10121501211","062101","0621仁怀市乡镇幼儿园",{"$f":"VLOOKUP(A346,'[2]2020年0905'!$C$1:$H$65536,6,FALSE)","v":75.5},82.9,63.36]
["10121503305","062101","0621仁怀市乡镇幼儿园",{"$f":"VLOOKUP(A347,'[2]2020年0905'!$C$1:$H$65536,6,FALSE)","v":75.5},0,30.2]
["10121504309","062102","0621仁怀市乡镇幼儿园",{"$f":"VLOOKUP(A348,'[2]2020年0905'!$C$1:$H$65536,6,FALSE)","v":95.5},85.34,72.34]
["10121510529","062102","0621仁怀市乡镇幼儿园",{"$f":"VLOOKUP(A349,'[2]2020年0905'!$C$1:$H$65536,6,FALSE)","v":86.5},82.58,67.63]
["10121511712","062102","0621仁怀市乡镇幼儿园",{"$f":"VLOOKUP(A350,'[2]2020年0905'!$C$1:$H$65536,6,FALSE)","v":83.5},83.38,66.75]
["10121511524","062102","0621仁怀市乡镇幼儿园",{"$f":"VLOOKUP(A351,'[2]2020年0905'!$C$1:$H$65536,6,FALSE)","v":82.5},82.26,65.9]
["10121501516","062102","0621仁怀市乡镇幼儿园",{"$f":"VLOOKUP(A352,'[2]2020年0905'!$C$1:$H$65536,6,FALSE)","v":81.5},87.02,67.41]
["10121501912","062102","0621仁怀市乡镇幼儿园",{"$f":"VLOOKUP(A353,'[2]2020年0905'!$C$1:$H$65536,6,FALSE)","v":80},83.32,65.33]
["10121502410","062102","0621仁怀市乡镇幼儿园",{"$f":"VLOOKUP(A354,'[2]2020年0905'!$C$1:$H$65536,6,FALSE)","v":80},82.16,64.86]
["10121482801","062102","0621仁怀市乡镇幼儿园",{"$f":"VLOOKUP(A355,'[2]2020年0905'!$C$1:$H$65536,6,FALSE)","v":79.5},82.14,64.66]
["10121481829","062102","0621仁怀市乡镇幼儿园",{"$f":"VLOOKUP(A356,'[2]2020年0905'!$C$1:$H$65536,6,FALSE)","v":78.5},83.98,64.99]
["10121490521","062102","0621仁怀市乡镇幼儿园",{"$f":"VLOOKUP(A357,'[2]2020年0905'!$C$1:$H$65536,6,FALSE)","v":78.5},84.62,65.25]
["10121501524","062102","0621仁怀市乡镇幼儿园",{"$f":"VLOOKUP(A358,'[2]2020年0905'!$C$1:$H$65536,6,FALSE)","v":78},84.04,64.82]
["10121502402","062102","0621仁怀市乡镇幼儿园",{"$f":"VLOOKUP(A359,'[2]2020年0905'!$C$1:$H$65536,6,FALSE)","v":77},83.64,64.26]
["10121483802","062102","0621仁怀市乡镇幼儿园",{"$f":"VLOOKUP(A360,'[2]2020年0905'!$C$1:$H$65536,6,FALSE)","v":76},83.66,63.86]
["10121484521","062102","0621仁怀市乡镇幼儿园",{"$f":"VLOOKUP(A361,'[2]2020年0905'!$C$1:$H$65536,6,FALSE)","v":75.5},79.44,61.98]
["10121502329","062102","0621仁怀市乡镇幼儿园",{"$f":"VLOOKUP(A362,'[2]2020年0905'!$C$1:$H$65536,6,FALSE)","v":74.5},82.44,62.78]
["10121486719","062103","0621仁怀市乡镇幼儿园",{"$f":"VLOOKUP(A363,'[2]2020年0905'!$C$1:$H$65536,6,FALSE)","v":96},77.1,69.24]
["10121501713","062103","0621仁怀市乡镇幼儿园",{"$f":"VLOOKUP(A364,'[2]2020年0905'!$C$1:$H$65536,6,FALSE)","v":96},77.12,69.25]
["10121502708","062103","0621仁怀市乡镇幼儿园",{"$f":"VLOOKUP(A365,'[2]2020年0905'!$C$1:$H$65536,6,FALSE)","v":94.5},85.16,71.86]
["10121480109","062103","0621仁怀市乡镇幼儿园",{"$f":"VLOOKUP(A366,'[2]2020年0905'!$C$1:$H$65536,6,FALSE)","v":89.5},80.38,67.95]
["10121489006","062103","0621仁怀市乡镇幼儿园",{"$f":"VLOOKUP(A367,'[2]2020年0905'!$C$1:$H$65536,6,FALSE)","v":89},74.88,65.55]
["10121493027","062103","0621仁怀市乡镇幼儿园",{"$f":"VLOOKUP(A368,'[2]2020年0905'!$C$1:$H$65536,6,FALSE)","v":89},78.16,66.86]
["10121490801","062103","0621仁怀市乡镇幼儿园",{"$f":"VLOOKUP(A369,'[2]2020年0905'!$C$1:$H$65536,6,FALSE)","v":88.5},84.4,69.16]
["10121491419","062103","0621仁怀市乡镇幼儿园",{"$f":"VLOOKUP(A370,'[2]2020年0905'!$C$1:$H$65536,6,FALSE)","v":88.5},76.26,65.9]
["10121491828","062103","0621仁怀市乡镇幼儿园",{"$f":"VLOOKUP(A371,'[2]2020年0905'!$C$1:$H$65536,6,FALSE)","v":88.5},82.6,68.44]
["10121493506","062103","0621仁怀市乡镇幼儿园",{"$f":"VLOOKUP(A372,'[2]2020年0905'!$C$1:$H$65536,6,FALSE)","v":88},81.8,67.92]
["10121485715","062103","0621仁怀市乡镇幼儿园",{"$f":"VLOOKUP(A373,'[2]2020年0905'!$C$1:$H$65536,6,FALSE)","v":87.5},83.92,68.57]
["10121504628","062103","0621仁怀市乡镇幼儿园",{"$f":"VLOOKUP(A374,'[2]2020年0905'!$C$1:$H$65536,6,FALSE)","v":87.5},78.74,66.5]
["10121492202","062103","0621仁怀市乡镇幼儿园",{"$f":"VLOOKUP(A375,'[2]2020年0905'!$C$1:$H$65536,6,FALSE)","v":87},80.76,67.1]
["10121501214","062103","0621仁怀市乡镇幼儿园",{"$f":"VLOOKUP(A376,'[2]2020年0905'!$C$1:$H$65536,6,FALSE)","v":86.5},76.28,65.11]
["10121501628","062103","0621仁怀市乡镇幼儿园",{"$f":"VLOOKUP(A377,'[2]2020年0905'!$C$1:$H$65536,6,FALSE)","v":86.5},76.36,65.14]
["10121487401","062103","0621仁怀市乡镇幼儿园",{"$f":"VLOOKUP(A378,'[2]2020年0905'!$C$1:$H$65536,6,FALSE)","v":86},79.62,66.25]
["10121504029","062103","0621仁怀市乡镇幼儿园",{"$f":"VLOOKUP(A379,'[2]2020年0905'!$C$1:$H$65536,6,FALSE)","v":86},81.5,67]
["10121481807","062103","0621仁怀市乡镇幼儿园",{"$f":"VLOOKUP(A380,'[2]2020年0905'!$C$1:$H$65536,6,FALSE)","v":84.5},76.1,64.24]
["10121485121","062103","0621仁怀市乡镇幼儿园",{"$f":"VLOOKUP(A381,'[2]2020年0905'!$C$1:$H$65536,6,FALSE)","v":84.5},78.4,65.16]
["10121511328","062103","0621仁怀市乡镇幼儿园",{"$f":"VLOOKUP(A382,'[2]2020年0905'!$C$1:$H$65536,6,FALSE)","v":83.5},80.12,65.45]
["10121503720","062103","0621仁怀市乡镇幼儿园",{"$f":"VLOOKUP(A383,'[2]2020年0905'!$C$1:$H$65536,6,FALSE)","v":82.5},78.84,64.54]
["10121510405","062103","0621仁怀市乡镇幼儿园",{"$f":"VLOOKUP(A384,'[2]2020年0905'!$C$1:$H$65536,6,FALSE)","v":82.5},77.8,64.12]
["10121491213","062103","0621仁怀市乡镇幼儿园",{"$f":"VLOOKUP(A385,'[2]2020年0905'!$C$1:$H$65536,6,FALSE)","v":82},78.24,64.1]
["10121511629","062103","0621仁怀市乡镇幼儿园",{"$f":"VLOOKUP(A386,'[2]2020年0905'!$C$1:$H$65536,6,FALSE)","v":82},75.98,63.19]
["10121485004","062103","0621仁怀市乡镇幼儿园",{"$f":"VLOOKUP(A387,'[2]2020年0905'!$C$1:$H$65536,6,FALSE)","v":81.5},76.6,{"$f":"ROUND((D387/1.5*0.6+E387*0.4),2)","v":63.24}]
["10121480829","062103","0621仁怀市乡镇幼儿园",{"$f":"VLOOKUP(A388,'[2]2020年0905'!$C$1:$H$65536,6,FALSE)","v":81},76.96,63.18]
["10121493711","062103","0621仁怀市乡镇幼儿园",{"$f":"VLOOKUP(A389,'[2]2020年0905'!$C$1:$H$65536,6,FALSE)","v":80.5},71.32,60.73]
["10121481816","062103","0621仁怀市乡镇幼儿园",{"$f":"VLOOKUP(A390,'[2]2020年0905'!$C$1:$H$65536,6,FALSE)","v":80},76.02,62.41]
["10121487117","062103","0621仁怀市乡镇幼儿园",{"$f":"VLOOKUP(A391,'[2]2020年0905'!$C$1:$H$65536,6,FALSE)","v":80},74.6,61.84]
["10121491220","062103","0621仁怀市乡镇幼儿园",{"$f":"VLOOKUP(A392,'[2]2020年0905'!$C$1:$H$65536,6,FALSE)","v":80},81.1,64.44]
["10121486015","062104","0621仁怀市乡镇幼儿园",{"$f":"VLOOKUP(A393,'[2]2020年0905'!$C$1:$H$65536,6,FALSE)","v":93},81.06,69.62]
["10121501613","062104","0621仁怀市乡镇幼儿园",{"$f":"VLOOKUP(A394,'[2]2020年0905'!$C$1:$H$65536,6,FALSE)","v":93},78.86,68.74]
["10121483327","062104","0621仁怀市乡镇幼儿园",{"$f":"VLOOKUP(A395,'[2]2020年0905'!$C$1:$H$65536,6,FALSE)","v":91.5},83.96,70.18]
["10121503921","062104","0621仁怀市乡镇幼儿园",{"$f":"VLOOKUP(A396,'[2]2020年0905'!$C$1:$H$65536,6,FALSE)","v":91.5},78.58,68.03]
["10121491115","062104","0621仁怀市乡镇幼儿园",{"$f":"VLOOKUP(A397,'[2]2020年0905'!$C$1:$H$65536,6,FALSE)","v":90.5},81.84,68.94]
["10121490616","062104","0621仁怀市乡镇幼儿园",{"$f":"VLOOKUP(A398,'[2]2020年0905'!$C$1:$H$65536,6,FALSE)","v":90},85.38,70.15]
["10121490906","062104","0621仁怀市乡镇幼儿园",{"$f":"VLOOKUP(A399,'[2]2020年0905'!$C$1:$H$65536,6,FALSE)","v":90},82.42,68.97]
["10121501422","062104","0621仁怀市乡镇幼儿园",{"$f":"VLOOKUP(A400,'[2]2020年0905'!$C$1:$H$65536,6,FALSE)","v":87.5},78.48,66.39]
["10121482929","062104","0621仁怀市乡镇幼儿园",{"$f":"VLOOKUP(A401,'[2]2020年0905'!$C$1:$H$65536,6,FALSE)","v":86.5},82.74,67.7]
["10121488029","062104","0621仁怀市乡镇幼儿园",{"$f":"VLOOKUP(A402,'[2]2020年0905'!$C$1:$H$65536,6,FALSE)","v":85},83.66,67.46]
["10121500617","062104","0621仁怀市乡镇幼儿园",{"$f":"VLOOKUP(A403,'[2]2020年0905'!$C$1:$H$65536,6,FALSE)","v":84.5},80.04,65.82]
["10121488723","062104","0621仁怀市乡镇幼儿园",{"$f":"VLOOKUP(A404,'[2]2020年0905'!$C$1:$H$65536,6,FALSE)","v":84},76.78,64.31]
["10121501013","062104","0621仁怀市乡镇幼儿园",{"$f":"VLOOKUP(A405,'[2]2020年0905'!$C$1:$H$65536,6,FALSE)","v":84},83.84,67.14]
["10121512125","062104","0621仁怀市乡镇幼儿园",{"$f":"VLOOKUP(A406,'[2]2020年0905'!$C$1:$H$65536,6,FALSE)","v":83},83.6,66.64]
["10121481726","062104","0621仁怀市乡镇幼儿园",{"$f":"VLOOKUP(A407,'[2]2020年0905'!$C$1:$H$65536,6,FALSE)","v":82.5},81.42,65.57]
["10121482004","062104","0621仁怀市乡镇幼儿园",{"$f":"VLOOKUP(A408,'[2]2020年0905'!$C$1:$H$65536,6,FALSE)","v":82.5},82.7,66.08]
["10121490104","062104","0621仁怀市乡镇幼儿园",{"$f":"VLOOKUP(A409,'[2]2020年0905'!$C$1:$H$65536,6,FALSE)","v":82},76.06,63.22]
["10121511101","062104","0621仁怀市乡镇幼儿园",{"$f":"VLOOKUP(A410,'[2]2020年0905'!$C$1:$H$65536,6,FALSE)","v":82},79.88,64.75]
["10121480823","062104","0621仁怀市乡镇幼儿园",{"$f":"VLOOKUP(A411,'[2]2020年0905'!$C$1:$H$65536,6,FALSE)","v":81.5},86.9,67.36]
["10121482108","062104","0621仁怀市乡镇幼儿园",{"$f":"VLOOKUP(A412,'[2]2020年0905'!$C$1:$H$65536,6,FALSE)","v":81.5},77.66,63.66]
["10121491528","062104","0621仁怀市乡镇幼儿园",{"$f":"VLOOKUP(A413,'[2]2020年0905'!$C$1:$H$65536,6,FALSE)","v":81.5},83.48,65.99]
["10121501328","062104","0621仁怀市乡镇幼儿园",{"$f":"VLOOKUP(A414,'[2]2020年0905'!$C$1:$H$65536,6,FALSE)","v":81.5},77.46,63.58]
["10121501427","062104","0621仁怀市乡镇幼儿园",{"$f":"VLOOKUP(A415,'[2]2020年0905'!$C$1:$H$65536,6,FALSE)","v":81.5},53.84,54.14]
["10121510124","062104","0621仁怀市乡镇幼儿园",{"$f":"VLOOKUP(A416,'[2]2020年0905'!$C$1:$H$65536,6,FALSE)","v":81.5},74.14,62.26]
["10121490927","062104","0621仁怀市乡镇幼儿园",{"$f":"VLOOKUP(A417,'[2]2020年0905'!$C$1:$H$65536,6,FALSE)","v":81},83.7,65.88]
["10121486502","062104","0621仁怀市乡镇幼儿园",{"$f":"VLOOKUP(A418,'[2]2020年0905'!$C$1:$H$65536,6,FALSE)","v":80.5},83.74,65.7]
["10121510828","062104","0621仁怀市乡镇幼儿园",{"$f":"VLOOKUP(A419,'[2]2020年0905'!$C$1:$H$65536,6,FALSE)","v":80.5},81.06,64.62]
["10121500622","062104","0621仁怀市乡镇幼儿园",{"$f":"VLOOKUP(A420,'[2]2020年0905'!$C$1:$H$65536,6,FALSE)","v":80},76.54,62.62]
["10121511925","062104","0621仁怀市乡镇幼儿园",{"$f":"VLOOKUP(A421,'[2]2020年0905'!$C$1:$H$65536,6,FALSE)","v":80},78.08,63.23]
["10121485623","062104","0621仁怀市乡镇幼儿园",{"$f":"VLOOKUP(A422,'[2]2020年0905'!$C$1:$H$65536,6,FALSE)","v":79.5},82.68,64.87]
[10121491306,"062104","0621仁怀市乡镇幼儿园",{"$f":"VLOOKUP(A423,'[2]2020年0905'!$C$1:$H$65536,6,FALSE)","v":79.5},80.38,63.95]
["10121492213","062104","0621仁怀市乡镇幼儿园",{"$f":"VLOOKUP(A424,'[2]2020年0905'!$C$1:$H$65536,6,FALSE)","v":79.5},82.06,64.62]
["10121502009","060101","0601仁怀市水务局大沙坝水利工程服务中心",96,73.96,67.98]
["10121512429","060201","0602仁怀市茅台古镇文化产业园区经济发展服务中心",100.5,73.06,69.42]
["10121490106","060901","0609仁怀市美酒河镇林业站",99,81.92,72.37]
["10121510816","060301","0603仁怀市自然资源局苍龙自然资源所",108,86.28,77.71]
["10121490724","060601","0606仁怀市人民政府鲁班街道办事处村镇建设服务中心",107,79.14,74.46]
["10121484430","060201","0602仁怀市茅台古镇文化产业园区经济发展服务中心",100,71.4,68.56]
["10121490709","060101","0601仁怀市水务局大沙坝水利工程服务中心",99,79.04,71.22]
["10121510629","060201","0602仁怀市茅台古镇文化产业园区经济发展服务中心",107,73.7,72.28]
["10121481724","060401","0604仁怀市人民政府盐津街道办事处人力资源和社会保障服务中心",111,81.24,76.9]
["10121500822","060401","0604仁怀市人民政府盐津街道办事处人力资源和社会保障服务中心",111,79.5,76.2]
["10121490815","060901","0609仁怀市美酒河镇林业站",104,82.26,74.5]
["10121481712","060501","0605仁怀市人民政府苍龙街道办事处科技宣教文化信息服务中心",109,73.26,72.9]
["10121511812","060401","0604仁怀市人民政府盐津街道办事处人力资源和社会保障服务中心",111.5,83.58,78.03]
["10121487518","060601","0606仁怀市人民政府鲁班街道办事处村镇建设服务中心",110,73.34,73.34]
["10121482309","060601","0606仁怀市人民政府鲁班街道办事处村镇建设服务中心",115,77.26,76.9]
["10121483124","060501","0605仁怀市人民政府苍龙街道办事处科技宣教文化信息服务中心",108.5,68,70.6]
["10121504907","060901","0609仁怀市美酒河镇林业站",102.5,71.46,69.58]
["10121484129","060201","0602仁怀市茅台古镇文化产业园区经济发展服务中心",103,74.24,70.9]
["10121485328","060801","0608仁怀市火石镇水利站",106.5,74.82,72.53]
["10121481103","060301","0603仁怀市自然资源局苍龙自然资源所",108,72.46,72.18]
["10121486919","060101","0601仁怀市水务局大沙坝水利工程服务中心",105,78.5,73.4]
["10121482729","060301","0603仁怀市自然资源局苍龙自然资源所",107.5,76.24,73.5]
["10121490923","060701","0607仁怀市喜头镇农业服务中心",107.5,75.48,73.19]
["10121481630","060401","0604仁怀市人民政府盐津街道办事处人力资源和社会保障服务中心",113,73.32,74.53]
["10121488220","060201","0602仁怀市茅台古镇文化产业园区经济发展服务中心",108,79.68,75.07]
["10121484820","060201","0602仁怀市茅台古镇文化产业园区经济发展服务中心",103,78.02,72.41]
["10121504112","060701","0607仁怀市喜头镇农业服务中心",106.5,77.92,{"$f":"ROUND((D451/1.5*0.6+E451*0.4),2)","v":73.77}]
["10121485916","060501","0605仁怀市人民政府苍龙街道办事处科技宣教文化信息服务中心",111.5,0,44.6]
["10121485323","060701","0607仁怀市喜头镇农业服务中心",97.5,0,39]
["10121501908","060801","0608仁怀市火石镇水利站",105,0,42]
["10121502124","060801","0608仁怀市火石镇水利站",103,0,41.2]
["10121511213","061601","0616仁怀市乡镇小学",103,76.38,71.75]
["10121487306","061401","0614仁怀市美酒河镇村镇建设服务中心",84.5,74.14,63.46]
["10121492216","061601","0616仁怀市乡镇小学",102.5,81.96,73.78]
["10121510605","061501","0615仁怀市乡镇中学",95,82.4,70.96]
["10121490706","061501","0615仁怀市乡镇中学",103,81.82,73.93]
["10121480204","061001","0610仁怀市长岗镇农业服务中心",74.5,78.12,61.05]
["10121482721","061601","0616仁怀市乡镇小学",96.5,75.62,68.85]
["10121488808","061601","0616仁怀市乡镇小学",97,74,68.4]
["10121485112","061501","0615仁怀市乡镇中学",99,77.78,70.71]
["10121480504","061101","0611仁怀市茅坝镇农业服务中心",95.5,83.04,71.42]
["10121487517","061601","0616仁怀市乡镇小学",106,79.74,74.3]
["10121485510","061301","0613仁怀市三合镇村镇建设服务中心",87,73.32,64.13]
["10121501630","061601","0616仁怀市乡镇小学",102,77.74,71.9]
["10121482622","061001","0610仁怀市长岗镇农业服务中心",98,80.62,71.45]
["10121486430","061501","0615仁怀市乡镇中学",105.5,77.46,73.18]
["10121482925","061001","0610仁怀市长岗镇农业服务中心",83,69.04,60.82]
["10121480222","061301","0613仁怀市三合镇村镇建设服务中心",102.5,79.18,72.67]
["10121493908","061201","0612仁怀市九仓镇农业服务中心",92.5,75.08,67.03]
["10121487525","061401","0614仁怀市美酒河镇村镇建设服务中心",81.5,75.52,62.81]
["10121500109","061601","0616仁怀市乡镇小学",103.5,76.98,72.19]
["10121503123","061601","0616仁怀市乡镇小学",98,75.92,69.57]
["10121504204","061101","0611仁怀市茅坝镇农业服务中心",101.5,80.72,72.89]
["10121486213","061401","0614仁怀市美酒河镇村镇建设服务中心",77.5,73.86,60.54]
["10121512602","061601","0616仁怀市乡镇小学",101,76.06,70.82]
["10121488903","061101","0611仁怀市茅坝镇农业服务中心",95.5,0,38.2]
["10121510221","061201","0612仁怀市九仓镇农业服务中心",108.5,0,43.4]
["10121488804","061201","0612仁怀市九仓镇农业服务中心",94,0,37.6]
["10121502026","061301","0613仁怀市三合镇村镇建设服务中心",100.5,0,40.2]
["10121512621","061501","0615仁怀市乡镇中学",107,0,42.8]
["10121484522","061501","0615仁怀市乡镇中学",106.5,0,42.6]
["10121488712","062401","0624仁怀市乡镇卫生院",70,72.42,56.97]
["10121485804","062301","0623仁怀市妇幼保健院",106.5,81.16,75.06]
["10121493230","062302","0623仁怀市妇幼保健院",105,80.38,74.15]
["10121490517","062401","0624仁怀市乡镇卫生院",75.5,77.24,61.1]
["10121487704","062402","0624仁怀市乡镇卫生院",81,83.68,65.87]
["10121484622","062401","0624仁怀市乡镇卫生院",88,76.66,65.86]
["10121503414","062501","0625仁怀市美酒河镇卫生院",85.5,77.7,65.28]
["10121501509","062402","0624仁怀市乡镇卫生院",88,76.86,65.94]
["10121486218","062301","0623仁怀市妇幼保健院",105.5,85.52,76.41]
["10121501006","062401","0624仁怀市乡镇卫生院",80.5,76.04,62.62]
["10121493707","062402","0624仁怀市乡镇卫生院",83,78.68,64.67]
["10121502927","062401","0624仁怀市乡镇卫生院",79,79.28,63.31]
["10121503421","062401","0624仁怀市乡镇卫生院",72,77.44,59.78]
["10121511001","062401","0624仁怀市乡镇卫生院",75.5,76.9,60.96]
["10121482615","062402","0624仁怀市乡镇卫生院",80,79.18,63.67]
["10121504028","062301","0623仁怀市妇幼保健院",104,76.62,72.25]
["10121490814","062302","0623仁怀市妇幼保健院",104,83.02,74.81]
["10121487911","062402","0624仁怀市乡镇卫生院",83.5,76.22,63.89]
["10121487526","062401","0624仁怀市乡镇卫生院",101,78.88,71.95]
["10121482329","062401","0624仁怀市乡镇卫生院",75,75.42,60.17]
["10121482219","062401","0624仁怀市乡镇卫生院",74.5,77.7,60.88]
["10121491321","062501","0625仁怀市美酒河镇卫生院",72.5,73.66,58.46]
["10121510121","062401","0624仁怀市乡镇卫生院",68.5,74.56,57.22]
["10121511619","062401","0624仁怀市乡镇卫生院",88.5,80.82,67.73]
["10121510508","062302","0623仁怀市妇幼保健院",109.5,80.76,76.1]
["10121504216","062402","0624仁怀市乡镇卫生院",83,81.66,65.86]
["10121487420","062401","0624仁怀市乡镇卫生院",92.5,0,37]
["10121500130","062401","0624仁怀市乡镇卫生院",71.5,0,28.6]
["10121505013","062201","0622仁怀市人民医院",85,82.52,67.01]
["10121488714","062201","0622仁怀市人民医院",77.5,75.18,{"$f":"ROUND((D515/1.5*0.6+E515*0.4),2)","v":61.07}]
["10121500502","062202","0622仁怀市人民医院",65,69.48,53.79]
["10121483910","062201","0622仁怀市人民医院",74.5,76.06,60.22]
["10121484125","062201","0622仁怀市人民医院",66,71.3,54.92]
["10121510311","062201","0622仁怀市人民医院",64.5,68.52,53.21]
["10121483906","062201","0622仁怀市人民医院",62.5,78.34,56.34]
["10121488221","062201","0622仁怀市人民医院",76,75.48,60.59]
["10121504808","062201","0622仁怀市人民医院",69,66.12,54.05]
["10121480104","062201","0622仁怀市人民医院",73.5,76.64,60.06]
["10121493010","062201","0622仁怀市人民医院",71,80.5,60.6]
["10121512108","062201","0622仁怀市人民医院",63,78.7,56.68]
["10121492808","062201","0622仁怀市人民医院",68,84.64,61.06]
["10121487224","062201","0622仁怀市人民医院",80,74.18,61.67]
["10121480320","062201","0622仁怀市人民医院",62.5,72.22,53.89]
["10121512618","062201","0622仁怀市人民医院",64,72.32,54.53]
["10121490915","062201","0622仁怀市人民医院",75,76.16,60.46]
["10121502615","062201","0622仁怀市人民医院",83,70.98,61.59]
["10121500414","062201","0622仁怀市人民医院",82,80.68,65.07]
["10121501922","062201","0622仁怀市人民医院",56.5,81.34,55.14]
["10121491113","062201","0622仁怀市人民医院",74,81.3,62.12]
["10121510110","062201","0622仁怀市人民医院",72,73.72,58.29]
["10121486403","062201","0622仁怀市人民医院",63.5,0,25.4]
["10121480201","062304","0623仁怀市妇幼保健院",89.5,76.88,66.55]
["10121492227","062304","0623仁怀市妇幼保健院",78.5,83.42,64.77]
["10121483202","062304","0623仁怀市妇幼保健院",88.5,81.86,68.14]
["10121488503","062304","0623仁怀市妇幼保健院",75,66.6,56.64]
["10121481708","062304","0623仁怀市妇幼保健院",85,79.3,65.72]
["10121501811","062304","0623仁怀市妇幼保健院",78.5,83.04,64.62]
["10121493910","062304","0623仁怀市妇幼保健院",82,84.62,66.65]
["10121483417","062304","0623仁怀市妇幼保健院",83.5,70.04,61.42]
["10121504920","062304","0623仁怀市妇幼保健院",75,85.92,64.37]
["10121493813","062304","0623仁怀市妇幼保健院",86.5,86.42,69.17]
["10121494017","062304","0623仁怀市妇幼保健院",74.5,19.6,37.64]
["10121504510","062304","0623仁怀市妇幼保健院",85.5,84.1,67.84]
["10121501808","062303","0623仁怀市妇幼保健院",93,85.2,71.28]
["10121510702","062303","0623仁怀市妇幼保健院",84.5,78.68,65.27]
["10121484603","062303","0623仁怀市妇幼保健院",86.5,85.08,68.63]
["10121511609","062305","0623仁怀市妇幼保健院",85,76,64.4]
["10121511104","062305","0623仁怀市妇幼保健院",94,76.32,68.13]
["10121512315","062306","0623仁怀市妇幼保健院",112,83.58,78.23]
["10121484504","062306","0623仁怀市妇幼保健院",85,68.32,61.33]
["10121483120","062305","0623仁怀市妇幼保健院",83,70.04,61.22]
["10121481412","062306","0623仁怀市妇幼保健院",86,69.66,62.26]