Workbook

Sheet Sheet1
A1: 附2：
A2: 2017年北京市经济管理学校公开招聘工作人员报名表
A3: 申报岗位
A4: 姓名 | C4: 身份证号 | G4: 电子版证件照
A5: 性别 | C5: 民族 | E5: 出生年月
A6: 年龄 | C6: 籍贯 | E6: 出生地
A7: 政治面貌 | C7: 联系方式 | E7: 婚育情况
A8: 人事档案是否在京 | D8: 档案存放单位
A9: 户口是否在京 | D9: 户口所在地址
A10: 本市长期居住地地址
A11: 本科是否为全国统招全日制学历（不含专升本、专起本）： | D11: 是否应届毕业生 | F11: 是否为到期大学生村官
A12: 学习经历（自高中填起） | B12: 年月至年月 | D12: 高中阶段 | F12: 所学专业
B13: 年月至年月 | D13: 本科院校 | F13: 所学专业
B14: 年月至年月 | D14: 硕士研究生院校 | F14: 所学专业
B15: 年月至年月 | D15: 博士研究生院校 | F15: 所学专业
A16: 工作经历(注明原单位及职务，不含实习经历） | B16: 年月至年月
B17: 年月至年月
B18: 年月至年月
A19: 有无教师资格证 | D19: 教师资格证级别
A20: 取得职称或其他职(执)业资格证书情况
A21: 本人确认签字 | B21: 表中所填信息属实。 签 字： 年 月 日
A22: 注： 照片栏上传电子版证件照； 现场资格审查时，请提交纸质版并在本人签字栏内手签。

Sheet Sheet2
A1: 应聘岗位 | B1: 姓名 | C1: 性别 | D1: 年龄 | E1: 政治面貌 | F1: 身份证号 | G1: 民族 | H1: 籍贯 | I1: 联系方式 | J1: 出生年月 | K1: 出生地 | L1: 婚育情况 | M1: 人事档案是否在京 | N1: 档案存放单位 | O1: 户口是否在京 | P1: 户口所在地址 | Q1: 本市长期居住地地址 | R1: 本科是否为全国统招全日制学历（不含专升本、专起本）： | S1: 是否应届生 | T1: 是否村官 | U1: 高中阶段 | V1: 本科阶段 | W1: 硕士研究生阶段 | X1: 博士研究生阶段 | Y1: 工作经历1 | Z1: 工作经历2 | AA1: 工作经历3 | AB1: 有无教师证 | AC1: 教师证级别 | AD1: 取得职称或职（执）业资格证书情况
A2: =INDIRECT("Sheet1!B3") -> 0 | B2: =INDIRECT("Sheet1!B4") -> 0 | C2: =INDIRECT("Sheet1!B5") -> 0 | D2: =INDIRECT("Sheet1!B6") -> 0 | E2: =INDIRECT("Sheet1!B7") -> 0 | F2: =INDIRECT("Sheet1!D4") -> 0 | G2: =INDIRECT("Sheet1!D5") -> 0 | H2: =INDIRECT("Sheet1!D6") -> 0 | I2: =INDIRECT("Sheet1!D7") -> 0 | J2: =INDIRECT("Sheet1!f5") -> 0 | K2: =INDIRECT("Sheet1!f6") -> 0 | L2: =INDIRECT("Sheet1!f7") -> 0 | M2: =INDIRECT("Sheet1!c8") -> 0 | N2: =INDIRECT("Sheet1!e8") -> 0 | O2: =INDIRECT("Sheet1!c9") -> 0 | P2: =INDIRECT("Sheet1!e9") -> 0 | Q2: =INDIRECT("Sheet1!c10") -> 0 | R2: =INDIRECT("Sheet1!c11") -> 0 | S2: =INDIRECT("Sheet1!e11") -> 0 | T2: =INDIRECT("Sheet1!g11") -> 0 | U2: =CONCATENATE(INDIRECT("Sheet1!b12"),INDIRECT("Sheet1!e12")) -> 年月至年月 | V2: =CONCATENATE(INDIRECT("Sheet1!b13"),INDIRECT("Sheet1!e13"),INDIRECT("Sheet1!g13")) -> 年月至年月 | W2: =CONCATENATE(INDIRECT("Sheet1!b14"),INDIRECT("Sheet1!e14"),INDIRECT("Sheet1!g14")) -> 年月至年月 | X2: =CONCATENATE(INDIRECT("Sheet1!b15"),INDIRECT("Sheet1!e15"),INDIRECT("Sheet1!g15")) -> 年月至年月 | Y2: =CONCATENATE(INDIRECT("Sheet1!b16"),INDIRECT("Sheet1!D16")) -> 年月至年月 | Z2: =CONCATENATE(INDIRECT("Sheet1!b17"),INDIRECT("Sheet1!D17")) -> 年月至年月 | AA2: =CONCATENATE(INDIRECT("Sheet1!b18"),INDIRECT("Sheet1!D18")) -> 年月至年月 | AB2: =INDIRECT("Sheet1!C19") -> 0 | AC2: =INDIRECT("Sheet1!E19") -> 0 | AD2: =INDIRECT("Sheet1!D20") -> 0

Sheet Sheet3
A1: 应聘岗位 | B1: 姓名 | C1: 性别 | D1: 年龄 | E1: 政治面貌 | F1: 身份证号 | G1: 民族 | H1: 籍贯 | I1: 联系方式 | J1: 出生年月 | K1: 出生地 | L1: 婚育情况 | M1: 人事档案是否在京 | N1: 档案存放单位 | O1: 户口是否在京 | P1: 户口所在地址 | Q1: 本市长期居住地地址 | R1: 本科是否为全国统招全日制学历（不含专升本、专起本）： | S1: 是否应届生 | T1: 是否村官 | U1: 高中阶段 | V1: 本科阶段 | W1: 硕士研究生阶段 | X1: 博士研究生阶段 | Y1: 工作经历1 | Z1: 工作经历2 | AA1: 工作经历3 | AB1: 有无教师证 | AC1: 教师证级别 | AD1: 取得职称或职（执）业资格证书情况
A2: =Sheet1!B3 -> 0 | B2: =Sheet1!B4 -> 0 | C2: =Sheet1!B5 -> 0 | D2: =Sheet1!B6 -> 0 | E2: =Sheet1!B7 -> 0 | F2: =Sheet1!D4 -> 0 | G2: =Sheet1!D5 -> 0 | H2: =Sheet1!D6 -> 0 | I2: =Sheet1!D7 -> 0 | J2: =Sheet1!F5 -> 0 | K2: =Sheet1!F6 -> 0 | L2: =Sheet1!F7 -> 0 | M2: =Sheet1!C8 -> 0 | N2: =Sheet1!E8 -> 0 | O2: =Sheet1!C9 -> 0 | P2: =Sheet1!E9 -> 0 | Q2: =Sheet1!C10 -> 0 | R2: =Sheet1!C11 -> 0 | S2: =Sheet1!E11 -> 0 | T2: =Sheet1!G11 -> 0 | U2: =Sheet1!B12&Sheet1!E12 -> 年月至年月 | V2: =Sheet1!B13&Sheet1!E13&Sheet1!G13 -> 年月至年月 | W2: =Sheet1!B14&Sheet1!E14&Sheet1!G14 -> 年月至年月 | X2: =Sheet1!B15&Sheet1!E15&Sheet1!G15 -> 年月至年月 | Y2: =Sheet1!B16&Sheet1!D16 -> 年月至年月 | Z2: =Sheet1!B17&Sheet1!D17 -> 年月至年月 | AA2: =Sheet1!B18&Sheet1!D18 -> 年月至年月 | AB2: =Sheet1!C19 -> 0 | AC2: =Sheet1!E19 -> 0 | AD2: =Sheet1!D20 -> 0
